BEGIN:VCALENDAR
VERSION:2.0
PRODID:-//PIANYC - ECPv5.12.4//NONSGML v1.0//EN
CALSCALE:GREGORIAN
METHOD:PUBLISH
X-WR-CALNAME:PIANYC
X-ORIGINAL-URL:https://www.pianyc.net
X-WR-CALDESC:Events for PIANYC
BEGIN:VTIMEZONE
TZID:America/New_York
BEGIN:DAYLIGHT
TZOFFSETFROM:-0500
TZOFFSETTO:-0400
TZNAME:EDT
DTSTART:20260308T070000
END:DAYLIGHT
BEGIN:STANDARD
TZOFFSETFROM:-0400
TZOFFSETTO:-0500
TZNAME:EST
DTSTART:20261101T060000
END:STANDARD
END:VTIMEZONE
BEGIN:VEVENT
DTSTART;TZID=America/New_York:20260424T200000
DTEND;TZID=America/New_York:20260424T213000
DTSTAMP:20260422T044109
CREATED:20260105T021525Z
LAST-MODIFIED:20260110T214418Z
UID:195407-1777060800-1777066200@www.pianyc.net
SUMMARY:Yunchan Lim Solo Recital at Carnegie Hall
DESCRIPTION:Yunchan Lim has rapidly ascended to piano superstardom\, and his performances routinely sell out the world’s leading concert halls. Even online\, Lim’s playing enjoys nearly unrivaled demand: His debut album was Apple Music Classical’s most popular recording of 2024\, and his Van Cliburn–winning performance of Rachmaninoff’s Piano Concerto No. 3 is the work’s most-viewed recording of all time on YouTube. In this Friday-night recital\, Lim treats audiences to Schubert’s meditative Piano Sonata in G Major\, plus a pair of tour-de-force piano fantasies by Chopin and Robert Schumann. \nPart of: \nKeyboard Virtuosos I \nNo tickets are currently available. Please check back for updates.\nPurchasing 10 or more tickets??\nView Seating Chart (PDF) \nPerformer\nYunchan Lim\, Piano \nProgram\nCHOPIN Fantasy in F Minor\, Op. 49\nSCHUBERT Piano Sonata in G Major\, D. 894\nR. SCHUMANN Fantasy in C Major\, Op. 17
URL:https://www.pianyc.net/event/yunchan-lim-solo-recital-at-carnegie-hall-3/
LOCATION:Carnegie Hall\, 881 Seventh Avenue\, New York\, NY\, 10019\, United States
CATEGORIES:Live Musical Performance
ATTACH;FMTTYPE=image/jpeg:https://carnegiehall.imgix.net:443/-/media/CarnegieHall/Images/Events/2025-2026-CH-Presents/2026-04-24-Yunchan-Lim.jpg
GEO:40.764938;-73.979897
X-APPLE-STRUCTURED-LOCATION;VALUE=URI;X-ADDRESS=Carnegie Hall 881 Seventh Avenue New York NY 10019 United States;X-APPLE-RADIUS=500;X-TITLE=881 Seventh Avenue:geo:-73.979897,40.764938
END:VEVENT
END:VCALENDAR