BEGIN:VCALENDAR
VERSION:2.0
PRODID:-//PIANYC - ECPv5.12.4//NONSGML v1.0//EN
CALSCALE:GREGORIAN
METHOD:PUBLISH
X-WR-CALNAME:PIANYC
X-ORIGINAL-URL:https://www.pianyc.net
X-WR-CALDESC:Events for PIANYC
BEGIN:VTIMEZONE
TZID:America/New_York
BEGIN:DAYLIGHT
TZOFFSETFROM:-0500
TZOFFSETTO:-0400
TZNAME:EDT
DTSTART:20230312T070000
END:DAYLIGHT
BEGIN:STANDARD
TZOFFSETFROM:-0400
TZOFFSETTO:-0500
TZNAME:EST
DTSTART:20231105T060000
END:STANDARD
END:VTIMEZONE
BEGIN:VEVENT
DTSTART;TZID=America/New_York:20230128T160000
DTEND;TZID=America/New_York:20230128T173000
DTSTAMP:20260420T115357
CREATED:20230128T172744Z
LAST-MODIFIED:20230128T172744Z
UID:144808-1674921600-1674927000@www.pianyc.net
SUMMARY:Yuja Wang and The Philadelphia Orchestra at Carnegie Hall
DESCRIPTION:Performers\nThe Philadelphia Orchestra\nYannick Nézet-Séguin\, Music Director and Conductor\nYuja Wang\, Piano \nProgram\nPiano Concerto No. 1\nPiano Concerto No. 2\nPiano Concerto No. 4\nRhapsody on a Theme of Paganini\nPiano Concerto No. 3
URL:https://www.pianyc.net/event/yuja-wang-and-the-philadelphia-orchestra-at-carnegie-hall/
LOCATION:Carnegie Hall\, 881 Seventh Avenue\, New York\, NY\, 10019\, United States
CATEGORIES:Live Musical Performance
ATTACH;FMTTYPE=image/jpeg:https://carnegiehall.imgix.net:443/-/media/CarnegieHall/Images/Events/2022-2023-CH-Presents/2023-01-28-The-Philadelphia-Orchestra.jpg
GEO:40.764938;-73.979897
X-APPLE-STRUCTURED-LOCATION;VALUE=URI;X-ADDRESS=Carnegie Hall 881 Seventh Avenue New York NY 10019 United States;X-APPLE-RADIUS=500;X-TITLE=881 Seventh Avenue:geo:-73.979897,40.764938
END:VEVENT
END:VCALENDAR