BEGIN:VCALENDAR
VERSION:2.0
PRODID:-//PIANYC - ECPv5.12.4//NONSGML v1.0//EN
CALSCALE:GREGORIAN
METHOD:PUBLISH
X-WR-CALNAME:PIANYC
X-ORIGINAL-URL:https://www.pianyc.net
X-WR-CALDESC:Events for PIANYC
BEGIN:VTIMEZONE
TZID:America/New_York
BEGIN:DAYLIGHT
TZOFFSETFROM:-0500
TZOFFSETTO:-0400
TZNAME:EDT
DTSTART:20230312T070000
END:DAYLIGHT
BEGIN:STANDARD
TZOFFSETFROM:-0400
TZOFFSETTO:-0500
TZNAME:EST
DTSTART:20231105T060000
END:STANDARD
END:VTIMEZONE
BEGIN:VEVENT
DTSTART;TZID=America/New_York:20230208T193000
DTEND;TZID=America/New_York:20230208T210000
DTSTAMP:20260421T063502
CREATED:20221226T192956Z
LAST-MODIFIED:20230206T015115Z
UID:143822-1675884600-1675890000@www.pianyc.net
SUMMARY:Young Concert Artists: Risa Hokamura\, Violin\, at Merkin Hall
DESCRIPTION:YSAŸE – Sonata No. 3 for Solo Violin in D Minor\nPROKOFIEV – Sonata No. 1 for Violin and Piano in F Minor\, Op. 80\nCHAUSSON – Poème\, for Violin and Piano Op. 25\nSAINT-SAËNS – Introduction & Rondo Capriccioso for Violin and Piano\, Op. 28\nMAGNUS LINDBERG – Caprice \nRisa Hokamura began the violin at the age of three\, and at the age of 10 she began to capture top prizes in competitions in Japan. She first came to international attention upon winning the Silver Medal at the 2018 International Violin Competition of Indianapolis\, where she performed the Tchaikovsky Concerto with the Indianapolis Symphony conducted by Leonard Slatkin. Ms. Hokamura won First Prize in the 2018 Young Concert Artists International Auditions at the age of 17.
URL:https://www.pianyc.net/event/young-concert-artists-risa-hokamura-violin-at-merkin-hall/
LOCATION:Merkin Concert Hall at Kaufman Music Center\, 129 W 67th St\, New York\, NY\, 10036\, United States
CATEGORIES:Live Musical Performance
ATTACH;FMTTYPE=image/jpeg:https://www.kaufmanmusiccenter.org/images/uploads/events/_medium/Hokamura_Risa_Matt_Dine_1200x1200.jpg
GEO:40.7752368;-73.9830916
X-APPLE-STRUCTURED-LOCATION;VALUE=URI;X-ADDRESS=Merkin Concert Hall at Kaufman Music Center 129 W 67th St New York NY 10036 United States;X-APPLE-RADIUS=500;X-TITLE=129 W 67th St:geo:-73.9830916,40.7752368
END:VEVENT
END:VCALENDAR