BEGIN:VCALENDAR
VERSION:2.0
PRODID:-//PIANYC - ECPv5.12.4//NONSGML v1.0//EN
CALSCALE:GREGORIAN
METHOD:PUBLISH
X-WR-CALNAME:PIANYC
X-ORIGINAL-URL:https://www.pianyc.net
X-WR-CALDESC:Events for PIANYC
BEGIN:VTIMEZONE
TZID:America/New_York
BEGIN:DAYLIGHT
TZOFFSETFROM:-0500
TZOFFSETTO:-0400
TZNAME:EDT
DTSTART:20230312T070000
END:DAYLIGHT
BEGIN:STANDARD
TZOFFSETFROM:-0400
TZOFFSETTO:-0500
TZNAME:EST
DTSTART:20231105T060000
END:STANDARD
END:VTIMEZONE
BEGIN:VEVENT
DTSTART;TZID=America/New_York:20230426T193000
DTEND;TZID=America/New_York:20230426T210000
DTSTAMP:20260420T084942
CREATED:20221226T192729Z
LAST-MODIFIED:20221226T192729Z
UID:143821-1682537400-1682542800@www.pianyc.net
SUMMARY:Young Concert Artists: Lun Li\, violin & Janice Carissa\, piano\, at Merkin Hall
DESCRIPTION:Program \nGIYA KANCHELI – “Don Quixote” from 18 MiniaturesPOULENC – Violin Sonata\nSCIARRINO – Per Mattia\nSCHOENBERG – Phantasy\, Op. 47\nKREISLER – Miniature Viennese March\nMESSIAEN – Fantaisie\nSCHUMANN (arr. Auer) – “Bird as Prophet”\nBARTÓK – Violin Sonata No.2\, Sz. 76 \nAbout the performers \nA native of Shanghai\, China\, violinist Lun Li won First Prize in the 2021 Young Concert Artists Susan Wadsworth International Auditions\, as well as The Paul A. Fish Memorial Prize and The Buffalo Chamber Music Society Prize\, and was named John French Violin Chair at YCA. He is also the recent joint winner of First Prize at the Lillian and Maurice Barbash J.S. Bach Competition. \nIndonesian pianist Janice Carissa has been praised for radiating “the multicolored highlights of a mature pianist” (Philadelphia Inquirer) and having a “fleet-fingered touch that is particularly impressive\,” as well as for her artistry that “conveys a vivid story rather than a mere showpiece” (Chicago Classical Review). \n 
URL:https://www.pianyc.net/event/young-concert-artists-lun-li-violin-janice-carissa-piano-at-merkin-hall/
LOCATION:Merkin Concert Hall at Kaufman Music Center\, 129 W 67th St\, New York\, NY\, 10036\, United States
CATEGORIES:Live Musical Performance
ATTACH;FMTTYPE=image/jpeg:https://www.kaufmanmusiccenter.org/images/uploads/events/_medium/LunLi-TamPhotography-1200x1200.jpg
GEO:40.7752368;-73.9830916
X-APPLE-STRUCTURED-LOCATION;VALUE=URI;X-ADDRESS=Merkin Concert Hall at Kaufman Music Center 129 W 67th St New York NY 10036 United States;X-APPLE-RADIUS=500;X-TITLE=129 W 67th St:geo:-73.9830916,40.7752368
END:VEVENT
END:VCALENDAR