BEGIN:VCALENDAR
VERSION:2.0
PRODID:-//PIANYC - ECPv5.12.4//NONSGML v1.0//EN
CALSCALE:GREGORIAN
METHOD:PUBLISH
X-WR-CALNAME:PIANYC
X-ORIGINAL-URL:https://www.pianyc.net
X-WR-CALDESC:Events for PIANYC
BEGIN:VTIMEZONE
TZID:America/New_York
BEGIN:DAYLIGHT
TZOFFSETFROM:-0500
TZOFFSETTO:-0400
TZNAME:EDT
DTSTART:20220313T070000
END:DAYLIGHT
BEGIN:STANDARD
TZOFFSETFROM:-0400
TZOFFSETTO:-0500
TZNAME:EST
DTSTART:20221106T060000
END:STANDARD
END:VTIMEZONE
BEGIN:VEVENT
DTSTART;TZID=America/New_York:20220611T200000
DTEND;TZID=America/New_York:20220611T220000
DTSTAMP:20260420T114838
CREATED:20220525T005406Z
LAST-MODIFIED:20220526T014734Z
UID:128902-1654977600-1654984800@www.pianyc.net
SUMMARY:Yoko Yates Solo Recital at Greenwich House Music School
DESCRIPTION:Yoko Yates in concert to celebrate the release of her new album Mystic Life. \nYoko Yates in Concert \nSaturday\, June 11 at Greenwich House Music School (GHMS) located at 46 Barrow Street\, NYC. \nDoors at 7:30 pm / Concert 8:00 pm \nTickets are available at door for $25 adult / $15 for youth (18 and under). \nYoko Yates is a Japanese born and NYC based pianist\, composer\, and educator. She is the celebrated composer of the soundtrack for the award-winning documentary film Mothers’ Way\, Daughters’ Choice filmed in NYC. She is also a teacher at Greenwich House Music School and the Brooklyn Conservatory of Music. Yoko will be releasing her debut ensemble album “Mystic Life” on April 15. \nTo attend this concert\, GHMS requires proof of vaccination against COVID-19. You may show proof with the NYC COVID Safe App\, NYS Excelsior App\, your vaccine card\, or a photo of your vaccine card\, with valid ID. All concergoers must wear facial masks while inside the venue.
URL:https://www.pianyc.net/event/yoko-gates-greenwich/
LOCATION:Greenwich House Music School\, 46 Barrow Street\, New York\, NY\, 10014\, United States
CATEGORIES:Live Musical Performance
ATTACH;FMTTYPE=image/jpeg:https://img.evbuc.com/https%3A%2F%2Fcdn.evbuc.com%2Fimages%2F261843909%2F65175739767%2F1%2Foriginal.20220406-155726?w=1000&auto=format%2Ccompress&q=75&sharp=10&rect=1%2C51%2C654%2C327&s=427e9f3711ee05dd0d0855f3b1c168cc
GEO:40.7321768;-74.0045311
X-APPLE-STRUCTURED-LOCATION;VALUE=URI;X-ADDRESS=Greenwich House Music School 46 Barrow Street New York NY 10014 United States;X-APPLE-RADIUS=500;X-TITLE=46 Barrow Street:geo:-74.0045311,40.7321768
END:VEVENT
END:VCALENDAR