BEGIN:VCALENDAR
VERSION:2.0
PRODID:-//PIANYC - ECPv5.12.4//NONSGML v1.0//EN
CALSCALE:GREGORIAN
METHOD:PUBLISH
X-WR-CALNAME:PIANYC
X-ORIGINAL-URL:https://www.pianyc.net
X-WR-CALDESC:Events for PIANYC
BEGIN:VTIMEZONE
TZID:America/New_York
BEGIN:DAYLIGHT
TZOFFSETFROM:-0500
TZOFFSETTO:-0400
TZNAME:EDT
DTSTART:20230312T070000
END:DAYLIGHT
BEGIN:STANDARD
TZOFFSETFROM:-0400
TZOFFSETTO:-0500
TZNAME:EST
DTSTART:20231105T060000
END:STANDARD
END:VTIMEZONE
BEGIN:VEVENT
DTSTART;TZID=America/New_York:20231119T170000
DTEND;TZID=America/New_York:20231119T170000
DTSTAMP:20260423T110316
CREATED:20230831T113611Z
LAST-MODIFIED:20230831T113611Z
UID:154185-1700413200-1700413200@www.pianyc.net
SUMMARY:Yelena Grinberg\, Paul Cho and Nathan Whittaker; Music for Clarinet\, Cello and Piano\, at Grinberg Classical Salon
DESCRIPTION:PAUL CHO\, clarinet\nNATHAN WHITTAKER\, cello\nYELENA GRINBERG\, piano \nREGER – Albumblatt and Tarantella for clarinet and piano (1902)\nZEMLINSKY – Clarinet Trio in D Minor\, op. 3 (1896)\nREGER – Caprice and Kleine Romanze for cello and piano\, op. 79e (1901)\nBRAHMS – Clarinet Trio in A minor\, op. 114 (1891)
URL:https://www.pianyc.net/event/yelena-grinberg-paul-cho-and-nathan-whittaker-music-for-clarinet-cello-and-piano-at-grinberg-classical-salon/2023-11-19/
LOCATION:Grinberg Classical Salon\, Upper West Side\, New York\, NY\, United States
CATEGORIES:Live Musical Performance
ATTACH;FMTTYPE=:
GEO:40.7870106;-73.9753676
X-APPLE-STRUCTURED-LOCATION;VALUE=URI;X-ADDRESS=Grinberg Classical Salon Upper West Side New York NY United States;X-APPLE-RADIUS=500;X-TITLE=Upper West Side:geo:-73.9753676,40.7870106
END:VEVENT
END:VCALENDAR