BEGIN:VCALENDAR
VERSION:2.0
PRODID:-//PIANYC - ECPv5.12.4//NONSGML v1.0//EN
CALSCALE:GREGORIAN
METHOD:PUBLISH
X-WR-CALNAME:PIANYC
X-ORIGINAL-URL:https://www.pianyc.net
X-WR-CALDESC:Events for PIANYC
BEGIN:VTIMEZONE
TZID:America/New_York
BEGIN:DAYLIGHT
TZOFFSETFROM:-0500
TZOFFSETTO:-0400
TZNAME:EDT
DTSTART:20240310T070000
END:DAYLIGHT
BEGIN:STANDARD
TZOFFSETFROM:-0400
TZOFFSETTO:-0500
TZNAME:EST
DTSTART:20241103T060000
END:STANDARD
END:VTIMEZONE
BEGIN:VEVENT
DTSTART;TZID=America/New_York:20241005T193000
DTEND;TZID=America/New_York:20241005T211500
DTSTAMP:20260422T121527
CREATED:20240914T192531Z
LAST-MODIFIED:20240917T194143Z
UID:171105-1728156600-1728162900@www.pianyc.net
SUMMARY:Yekwon plays Beethoven at W83 Auditorium
DESCRIPTION:Experience the extraordinary artistry of esteemed pianist and Van Cliburn competition laureate\, Yekwon Sunwoo\, as he returns to the spotlight. This time\, Sunwoo offers an insightful interpretation of Beethoven’s Piano Concerto No. 4\, showcasing his deep connection with the composer’s intricate and reflective work. The program also includes Holst’s majestic Jupiter and J.S. Bach’s Prelude\, Chorale and Fugue\, both arranged by Samuel Adler\, along with Britten’s lively Three Divertimenti. Immerse yourself in a captivating musical journey that highlights the rich diversity of classical music. \nDongmin Kim conductor\nYekwon Sunwoo piano \nHOLST / Jupiter (arr. Samuel Adler)\nJ. S. BACH / Prelude\, Chorale and Fugue (arr. Samuel Adler)\nBRITTEN / Three Divertimenti\nBEETHOVEN / Piano Concerto No. 4 in G major\, Op. 58 (arr. Yoomi Paick) \nYour donation is essential and will keep us doing our concerts FREE. \nDONATION \n(suggested donation: $20/adults\, $10/students and seniors.)
URL:https://www.pianyc.net/event/yekwon-plays-beethoven-nyc-at-w83-auditorium/
LOCATION:W83 Ministry Center\, 150 W 83rd St\, New York\, NY\, 10024\, United States
CATEGORIES:Live Musical Performance
ATTACH;FMTTYPE=image/jpeg:https://img.evbuc.com/https%3A%2F%2Fcdn.evbuc.com%2Fimages%2F827810229%2F202299978054%2F1%2Foriginal.20240815-171237?w=1000&auto=format%2Ccompress&q=75&sharp=10&rect=6%2C0%2C1908%2C954&s=653d6f078012a0981522488582a596ec
GEO:40.7851428;-73.9757256
X-APPLE-STRUCTURED-LOCATION;VALUE=URI;X-ADDRESS=W83 Ministry Center 150 W 83rd St New York NY 10024 United States;X-APPLE-RADIUS=500;X-TITLE=150 W 83rd St:geo:-73.9757256,40.7851428
END:VEVENT
END:VCALENDAR