BEGIN:VCALENDAR
VERSION:2.0
PRODID:-//PIANYC - ECPv5.12.4//NONSGML v1.0//EN
CALSCALE:GREGORIAN
METHOD:PUBLISH
X-WR-CALNAME:PIANYC
X-ORIGINAL-URL:https://www.pianyc.net
X-WR-CALDESC:Events for PIANYC
BEGIN:VTIMEZONE
TZID:America/New_York
BEGIN:DAYLIGHT
TZOFFSETFROM:-0500
TZOFFSETTO:-0400
TZNAME:EDT
DTSTART:20220313T070000
END:DAYLIGHT
BEGIN:STANDARD
TZOFFSETFROM:-0400
TZOFFSETTO:-0500
TZNAME:EST
DTSTART:20221106T060000
END:STANDARD
END:VTIMEZONE
BEGIN:VEVENT
DTSTART;TZID=America/New_York:20221007T190000
DTEND;TZID=America/New_York:20221007T203000
DTSTAMP:20260421T082913
CREATED:20220811T224225Z
LAST-MODIFIED:20220811T224225Z
UID:134988-1665169200-1665174600@www.pianyc.net
SUMMARY:Yael Weiss Performs Beethoven\, at Bargemusic
DESCRIPTION:“32 Bright Clouds: Beethoven Conversations Around the World”\nIs a global music-commissioning\, performing and recording project curated by pianist Yael Weiss. The project commissions a diverse group of composers from countries of conflict and unrest around the world\, with all new works unified by a single “Peace motif” from Beethoven\, where he added the inscription “A Call for Inward and Outward Peace” above the notes. Each new composition is connected to one of Beethoven’s Piano Sonatas. “32 Bright Clouds” aims to harness music’s great power for unity and peace. \nBeethoven\nSonata in D minor\, Op. 31 no. 2\n“Tempest” \nPerformers\nYael Weiss\, piano
URL:https://www.pianyc.net/event/yael-weiss-performs-beethoven-at-bargemusic/
LOCATION:Bargemusic\, 1 Water St.\, Brooklyn\, NY\, 11201\, United States
CATEGORIES:Live Musical Performance
ATTACH;FMTTYPE=image/jpeg:https://www.pianyc.net/wp-content/uploads/2022/08/yael.jpeg
GEO:40.703195;-73.9947228
X-APPLE-STRUCTURED-LOCATION;VALUE=URI;X-ADDRESS=Bargemusic 1 Water St. Brooklyn NY 11201 United States;X-APPLE-RADIUS=500;X-TITLE=1 Water St.:geo:-73.9947228,40.703195
END:VEVENT
END:VCALENDAR