BEGIN:VCALENDAR
VERSION:2.0
PRODID:-//PIANYC - ECPv5.12.4//NONSGML v1.0//EN
CALSCALE:GREGORIAN
METHOD:PUBLISH
X-WR-CALNAME:PIANYC
X-ORIGINAL-URL:https://www.pianyc.net
X-WR-CALDESC:Events for PIANYC
BEGIN:VTIMEZONE
TZID:America/New_York
BEGIN:DAYLIGHT
TZOFFSETFROM:-0500
TZOFFSETTO:-0400
TZNAME:EDT
DTSTART:20220313T070000
END:DAYLIGHT
BEGIN:STANDARD
TZOFFSETFROM:-0400
TZOFFSETTO:-0500
TZNAME:EST
DTSTART:20221106T060000
END:STANDARD
END:VTIMEZONE
BEGIN:VEVENT
DTSTART;TZID=America/New_York:20220729T190000
DTEND;TZID=America/New_York:20220729T203000
DTSTAMP:20260419T084419
CREATED:20220707T204631Z
LAST-MODIFIED:20220707T204916Z
UID:131935-1659121200-1659126600@www.pianyc.net
SUMMARY:Works for Voice and Piano Inspired by Mary\, Queen of Scots\, at Saint John's in the Village
DESCRIPTION:“We Come to Claim the Throne” celebrates the vibrant musical legacy of one of European history’s most tragic figures. \nOn Friday July 29th at 7pm at St. John’s in the Village\, join soprano Michelle Trovato\, mezzo-soprano Rebecca Sacks\, and composer/pianist Felix Jarrar for “We Come to Claim the Throne.” This recital features music about or related to Mary Queen of Scots in a variety of different musical contexts. The program features the world premiere of Felix Jarrar’s song “Queen Mary’s Lament” and his song cycle Venetian Ceruse with text by lyricist/librettist Bea Goodwin. Music by Donizetti and Schumann will be performed alongside other works by Jarrar/Goodwin\, among others. Tickets for this concert are $20!
URL:https://www.pianyc.net/event/works-for-voice-and-piano-inspired-by-mary-queen-of-scots-at-saint-johns-in-the-village/
LOCATION:St. John’s in the Village Episcopal Church\, 218 W 11th St\, New York\, NY\, 10014\, United States
CATEGORIES:Live Musical Performance
ATTACH;FMTTYPE=image/jpeg:http://www.operadolce.org/uploads/8/2/3/9/8239146/5334161.jpg
GEO:40.7363047;-74.0021184
X-APPLE-STRUCTURED-LOCATION;VALUE=URI;X-ADDRESS=St. John’s in the Village Episcopal Church 218 W 11th St New York NY 10014 United States;X-APPLE-RADIUS=500;X-TITLE=218 W 11th St:geo:-74.0021184,40.7363047
END:VEVENT
END:VCALENDAR