BEGIN:VCALENDAR
VERSION:2.0
PRODID:-//PIANYC - ECPv5.12.4//NONSGML v1.0//EN
CALSCALE:GREGORIAN
METHOD:PUBLISH
X-WR-CALNAME:PIANYC
X-ORIGINAL-URL:https://www.pianyc.net
X-WR-CALDESC:Events for PIANYC
BEGIN:VTIMEZONE
TZID:America/New_York
BEGIN:DAYLIGHT
TZOFFSETFROM:-0500
TZOFFSETTO:-0400
TZNAME:EDT
DTSTART:20240310T070000
END:DAYLIGHT
BEGIN:STANDARD
TZOFFSETFROM:-0400
TZOFFSETTO:-0500
TZNAME:EST
DTSTART:20241103T060000
END:STANDARD
END:VTIMEZONE
BEGIN:VEVENT
DTSTART;TZID=America/New_York:20240604T190000
DTEND;TZID=America/New_York:20240604T220000
DTSTAMP:20260422T062510
CREATED:20240604T170515Z
LAST-MODIFIED:20240604T171210Z
UID:167328-1717527600-1717538400@www.pianyc.net
SUMMARY:Classical and Jazz Works for Violin and Piano at Symphony Space
DESCRIPTION:The final night of The 2024 Stretto Piano Festival features pianist Jed Distler playing Thelonious Monk\, violinist Zach Brock & pianist Steven Sandberg performing jazz originals\, world improvs & standards\, and pianist Eric Clark playing Chopin’s Scherzo No. 3 Op. 39 in C# minor and Ballade No. 1 in G minor\, Op. 23\, plus Mily Balakirev’s Islamey.
URL:https://www.pianyc.net/event/works-for-violin-and-piano-at-symphony-space/
LOCATION:Symphony Space\, 2537 Broadway\, New York\, NY\, 10025\, United States
CATEGORIES:Live Musical Performance
ATTACH;FMTTYPE=image/jpeg:https://www.pianyc.net/wp-content/uploads/2024/06/Jed-Distler-Piano.jpg
GEO:40.7939625;-73.9728154
X-APPLE-STRUCTURED-LOCATION;VALUE=URI;X-ADDRESS=Symphony Space 2537 Broadway New York NY 10025 United States;X-APPLE-RADIUS=500;X-TITLE=2537 Broadway:geo:-73.9728154,40.7939625
END:VEVENT
END:VCALENDAR