BEGIN:VCALENDAR
VERSION:2.0
PRODID:-//PIANYC - ECPv5.12.4//NONSGML v1.0//EN
CALSCALE:GREGORIAN
METHOD:PUBLISH
X-WR-CALNAME:PIANYC
X-ORIGINAL-URL:https://www.pianyc.net
X-WR-CALDESC:Events for PIANYC
BEGIN:VTIMEZONE
TZID:America/New_York
BEGIN:DAYLIGHT
TZOFFSETFROM:-0500
TZOFFSETTO:-0400
TZNAME:EDT
DTSTART:20230312T070000
END:DAYLIGHT
BEGIN:STANDARD
TZOFFSETFROM:-0400
TZOFFSETTO:-0500
TZNAME:EST
DTSTART:20231105T060000
END:STANDARD
END:VTIMEZONE
BEGIN:VEVENT
DTSTART;TZID=America/New_York:20230723T190000
DTEND;TZID=America/New_York:20230723T213000
DTSTAMP:20260419T184724
CREATED:20230623T150945Z
LAST-MODIFIED:20230623T151110Z
UID:150497-1690138800-1690147800@www.pianyc.net
SUMMARY:Work in Progress Session #5 at Room 31 at Arlo NoMad
DESCRIPTION:WIP at Room 31 Session #5 Feat: Ashni\, Seawind of Battery\, Neliie & Isaac DaBom! \nAshni is a Brooklyn-based singer\, songwriter\, and pianist. Her relationship with the stage began with classical North Indian dance\, Kathak\, and Western classical piano. A first-generation Indian American\, she grew up absorbing Hindustani classical music and Garba\, Gujarati folk music and dance. From these roots\, she incorporates her love for pop\, jazz\, and R&B. Her work meditates on the relationships we build with the self\, others\, and community. Ashni has performed at Joe’s Pub\, National Sawdust\, Music Hall of Williamsburg\, Rough Trade\, Lincoln Center\, and more. She is a member of the Resistance Revival Chorus. Her EP “Who I Dreamed Of” was released in March 2022\, where she made her headlining debut at Joe’s Pub. Forthcoming work includes a full-length album\, for which she received the 2022 NYC Women’s Fund Grant\, and a collaboration on Ganavya Doraiswamy’s album “How To Cure A Ghost: The Album\,” songs made from Fariha Roisin’s poetry. \nIsaac DaBom (Omer Mor) is a singer\, multi-instrumentalist\, beatboxer and music producer from Tel Aviv\, Israel. Using his voice\, his guitar and other instruments\, Isaac creates multilayered grooves live on the spot\, with free-spirited musicality and improvisation\, which make each show unique. \nNellie (she/her/hers) is an indie-pop singer/songwriter based out of NYC. She has been writing songs since she was a teenager but only began performing her original writings in 2019. Her music is driven by emotional real-life experiences and focuses on relationships with family\, friends\, and her past self. You can listen to her most recent release\, Acquaintances\, produced by indie duo\, TOLEDO\, on all streaming platforms.
URL:https://www.pianyc.net/event/work-in-progress-session-5-at-room-31-at-arlo-nomad/
LOCATION:Arlo NoMad\, 11 E 31st St\, New York\, NY\, NY 10016\, United States
CATEGORIES:Live Musical Performance
ATTACH;FMTTYPE=image/jpeg:https://img.evbuc.com/https%3A%2F%2Fcdn.evbuc.com%2Fimages%2F541138449%2F321665563899%2F1%2Foriginal.20230622-161713?w=1000&auto=format%2Ccompress&q=75&sharp=10&rect=0%2C0%2C2160%2C1080&s=c5bc505ccb536b748a6642d873126d3a
GEO:40.7463229;-73.9849133
X-APPLE-STRUCTURED-LOCATION;VALUE=URI;X-ADDRESS=Arlo NoMad 11 E 31st St New York NY NY 10016 United States;X-APPLE-RADIUS=500;X-TITLE=11 E 31st St:geo:-73.9849133,40.7463229
END:VEVENT
END:VCALENDAR