BEGIN:VCALENDAR
VERSION:2.0
PRODID:-//PIANYC - ECPv5.12.4//NONSGML v1.0//EN
CALSCALE:GREGORIAN
METHOD:PUBLISH
X-WR-CALNAME:PIANYC
X-ORIGINAL-URL:https://www.pianyc.net
X-WR-CALDESC:Events for PIANYC
BEGIN:VTIMEZONE
TZID:America/New_York
BEGIN:DAYLIGHT
TZOFFSETFROM:-0500
TZOFFSETTO:-0400
TZNAME:EDT
DTSTART:20250309T070000
END:DAYLIGHT
BEGIN:STANDARD
TZOFFSETFROM:-0400
TZOFFSETTO:-0500
TZNAME:EST
DTSTART:20251102T060000
END:STANDARD
END:VTIMEZONE
BEGIN:VEVENT
DTSTART;TZID=America/New_York:20250329T160000
DTEND;TZID=America/New_York:20250329T170000
DTSTAMP:20260423T152649
CREATED:20250302T153947Z
LAST-MODIFIED:20250302T171008Z
UID:178932-1743264000-1743267600@www.pianyc.net
SUMMARY:Wonderful Women: An Interactive Concert for Kids at Church In the Gardens
DESCRIPTION:Wonderful Women – Saturday\, March 29\, 2025 at 4pm \nWhat stories can music tell? Come listen to music for piano and strings and learn about amazing women from all over the world who tell their stories through the music they write. \nCommunity Concerts for Kids is a series created with our youngest audience members in mind. All concerts are interactive\, 60 minutes in length\, and are FREE to all who attend. All ages are welcome! \n  \nAt the concert you will meet – \nTeaching Artist Hosts: Barbara Podgurski and Beata Moon \nGuest Artists: Sarah Pratt Parsamian (violin) Liuh Wen Ting (viola)\, Roberta Cooper (cello) \n  \nAt 7:30 pm there will be a full length concert with paid admission. Anyone who attends the kiddie show and brings proof of attendance will receive 50% off the concert ticket price for the evening show (2 tickets per person will be honored at this discount). \nWe request that you “purchase” your free ticket through eventbrite to hold your reservation. Please consider making a donation at checkout on Eventbrite or at the door when attending the concert. Your donations help keep these concerts free for the community. \nMore info on the full season can be found by visiting musicareginae.org \n“Like” us on Facebook and Instagram for updates. \n  \n  \n 
URL:https://www.pianyc.net/event/wonderful-women-an-interactive-concert-for-kids-at-church-in-the-gardens/
LOCATION:Church in the Gardens\, 50 Ascan Ave\, New York\, NY\, NY 11375\, United States
CATEGORIES:Live Musical Performance
ATTACH;FMTTYPE=image/jpeg:https://img.evbuc.com/https%3A%2F%2Fcdn.evbuc.com%2Fimages%2F853636839%2F661337642213%2F1%2Foriginal.20240918-181111?crop=focalpoint&fit=crop&w=1000&auto=format%2Ccompress&q=75&sharp=10&fp-x=5e-05&fp-y=5e-05&s=1f9055fbc9f0fa371401cedff16d44a0
GEO:40.7163678;-73.8414698
X-APPLE-STRUCTURED-LOCATION;VALUE=URI;X-ADDRESS=Church in the Gardens 50 Ascan Ave New York NY NY 11375 United States;X-APPLE-RADIUS=500;X-TITLE=50 Ascan Ave:geo:-73.8414698,40.7163678
END:VEVENT
END:VCALENDAR