BEGIN:VCALENDAR
VERSION:2.0
PRODID:-//PIANYC - ECPv5.12.4//NONSGML v1.0//EN
CALSCALE:GREGORIAN
METHOD:PUBLISH
X-WR-CALNAME:PIANYC
X-ORIGINAL-URL:https://www.pianyc.net
X-WR-CALDESC:Events for PIANYC
BEGIN:VTIMEZONE
TZID:America/New_York
BEGIN:DAYLIGHT
TZOFFSETFROM:-0500
TZOFFSETTO:-0400
TZNAME:EDT
DTSTART:20250309T070000
END:DAYLIGHT
BEGIN:STANDARD
TZOFFSETFROM:-0400
TZOFFSETTO:-0500
TZNAME:EST
DTSTART:20251102T060000
END:STANDARD
END:VTIMEZONE
BEGIN:VEVENT
DTSTART;TZID=America/New_York:20251015T190000
DTEND;TZID=America/New_York:20251015T220000
DTSTAMP:20260422T135437
CREATED:20250903T012707Z
LAST-MODIFIED:20250920T012015Z
UID:187185-1760554800-1760565600@www.pianyc.net
SUMMARY:William Hill III Trio at Zinc Bar (Early and Late Shows)
DESCRIPTION:Showtimes: 7:00 PM & 8:30 PM| Tickets: $35 at the door.\nReservations: Not necessary. We recommend arriving 20-30 minutes before showtime to secure your seat.Seating: Available throughout the shows.Bar Hours: Open from 5:00 PM to midnight — no cover charge to enjoy cocktails and the vibe! \nWilliam Hill III is a pianist\, arranger\, composer\, and bandleader from Detroit\, Michigan. Hill is a graduate of the Detroit School of Arts\, and is currently studying at the prestigious Manhattan School of Music undergoing his baccalaureate education. \nHill has had the opportunity to participate in many summer extensive jazz camps such as Jazz House Kids\, Jr. Jazz Academy at Lincoln Center\, Berklee Summer Programs\, Interlochen Center for the Arts\, Motown Lyric Project\, Keeping an Eye Summer Jazz Workshop located at the Conservatorium van Amsterdam\, Betty Carter’s Jazz Ahead\, and many others. \nHill is honored to receive awards from programs such as the National YoungArts Foundation\, a multi-year winner in the instrumental contemporary category for the NAACP ACT-SO National Competition\, and the West Virginia Univeristy International Jazz Piano Competition. Musicians that Hill has worked alongside and have been mentored by include Marc Cary\, Aaron Parks\, Buster Williams\, Christian McBride\, Curtis Lundy\, Jaleel Shaw\, Jazzmeia Horn\, Joe Farnsworth\, Ari Hoenig\, Rodney Whitaker\, Wynton Marsalis\,\, and many more. \nHill has had the opportunity to perform at the Detroit International Jazz Festival\, Dizzy’s Club\, Smalls Jazz Club\, Minton’s Playhouse\, The Django\, The Kennedy Center\, Esplanade-Theaters on the Bay (Singapore)\, Blue Note Tokyo\, and many others to name a few. Hill has recently released his debut album\, “Three’s Company” summer of 2024. Hill’s passion in life as a musician is to spread joy to everyone around the world with the music that he produces. \nThis event is recurring on the following dates:\nWed\, Oct 15 at 07:00 PM\nWed\, Oct 15 at 08:30 PM
URL:https://www.pianyc.net/event/william-hill-iii-trio-at-zinc-bar-early-and-late-shows/
LOCATION:Zinc Bar\, 82 West 3rd Street\, New York\, NY\, 10012\, United States
CATEGORIES:Live Musical Performance
ATTACH;FMTTYPE=image/jpeg:https://www.zincbar.com/wp-content/uploads/2025/07/1015_William-Hill_02C-scaled.jpg
GEO:40.7296714;-73.9989913
X-APPLE-STRUCTURED-LOCATION;VALUE=URI;X-ADDRESS=Zinc Bar 82 West 3rd Street New York NY 10012 United States;X-APPLE-RADIUS=500;X-TITLE=82 West 3rd Street:geo:-73.9989913,40.7296714
END:VEVENT
END:VCALENDAR