BEGIN:VCALENDAR
VERSION:2.0
PRODID:-//PIANYC - ECPv5.12.4//NONSGML v1.0//EN
CALSCALE:GREGORIAN
METHOD:PUBLISH
X-WR-CALNAME:PIANYC
X-ORIGINAL-URL:https://www.pianyc.net
X-WR-CALDESC:Events for PIANYC
BEGIN:VTIMEZONE
TZID:America/New_York
BEGIN:DAYLIGHT
TZOFFSETFROM:-0500
TZOFFSETTO:-0400
TZNAME:EDT
DTSTART:20230312T070000
END:DAYLIGHT
BEGIN:STANDARD
TZOFFSETFROM:-0400
TZOFFSETTO:-0500
TZNAME:EST
DTSTART:20231105T060000
END:STANDARD
END:VTIMEZONE
BEGIN:VEVENT
DTSTART;TZID=America/New_York:20230122T183000
DTEND;TZID=America/New_York:20230122T200000
DTSTAMP:20260420T091448
CREATED:20221226T153943Z
LAST-MODIFIED:20221226T153943Z
UID:143817-1674412200-1674417600@www.pianyc.net
SUMMARY:VIVO International Music Competition Winners’ Concert 2022-2023 at Merkin Hall
DESCRIPTION:2022-2023 VIVO International Music Competition Winners’ Concert. Music for piano\, strings\, woodwinds and brass instruments from the Baroque through the 20th Century.
URL:https://www.pianyc.net/event/vivo-international-music-competition-winners-concert-2022-2023-at-merkin-hall/
LOCATION:Merkin Concert Hall at Kaufman Music Center\, 129 W 67th St\, New York\, NY\, 10036\, United States
CATEGORIES:Live Musical Performance
ATTACH;FMTTYPE=image/jpeg:https://www.kaufmanmusiccenter.org/images/uploads/events/_medium/Placeholder_1200x1200.jpg
GEO:40.7752368;-73.9830916
X-APPLE-STRUCTURED-LOCATION;VALUE=URI;X-ADDRESS=Merkin Concert Hall at Kaufman Music Center 129 W 67th St New York NY 10036 United States;X-APPLE-RADIUS=500;X-TITLE=129 W 67th St:geo:-73.9830916,40.7752368
END:VEVENT
END:VCALENDAR