BEGIN:VCALENDAR
VERSION:2.0
PRODID:-//PIANYC - ECPv5.12.4//NONSGML v1.0//EN
CALSCALE:GREGORIAN
METHOD:PUBLISH
X-WR-CALNAME:PIANYC
X-ORIGINAL-URL:https://www.pianyc.net
X-WR-CALDESC:Events for PIANYC
BEGIN:VTIMEZONE
TZID:America/New_York
BEGIN:DAYLIGHT
TZOFFSETFROM:-0500
TZOFFSETTO:-0400
TZNAME:EDT
DTSTART:20250309T070000
END:DAYLIGHT
BEGIN:STANDARD
TZOFFSETFROM:-0400
TZOFFSETTO:-0500
TZNAME:EST
DTSTART:20251102T060000
END:STANDARD
END:VTIMEZONE
BEGIN:VEVENT
DTSTART;TZID=America/New_York:20250625T123000
DTEND;TZID=America/New_York:20250625T143000
DTSTAMP:20260421T045713
CREATED:20250504T001741Z
LAST-MODIFIED:20250504T001741Z
UID:180684-1750854600-1750861800@www.pianyc.net
SUMMARY:Victor Lin on the Upper Terrace at Bryant Park
DESCRIPTION:A five\, six\, seven\, eight…come on down and swing along to the best ragtime\, stride\, and jazz the Big Apple has to offer. With special performances on select Thursdays and sprinkled spontaneously throughout the season. \nVictor Lin\, Ed. D.\, is a Taiwanese American musician and educator from Seattle who is based in New York City. Equally fluent as both a jazz pianist as well as a jazz violinist\, he is on the faculty of the Music Department at Columbia University and has been a mainstay of The Stanford Jazz Workshop since 1997. He was the founder and director of the jazz program at The Calhoun School in NYC\, where he was able to use his research on jazz education and experience to build the largest jazz program of its kind in the city over the course of the 21 years he taught there.
URL:https://www.pianyc.net/event/victor-lin-on-the-upper-terrace-at-bryant-park-4/2025-06-25/
LOCATION:Bryant Park\, Upper Terrace\, 36 W 40th St\, New York\, NY\, 10018\, United States
CATEGORIES:Live Musical Performance
ATTACH;FMTTYPE=image/jpeg:https://www.pianyc.net/wp-content/uploads/2025/05/victor-lin-jazz-piano.jpg
GEO:40.7527864;-73.9836149
X-APPLE-STRUCTURED-LOCATION;VALUE=URI;X-ADDRESS=Bryant Park Upper Terrace 36 W 40th St New York NY 10018 United States;X-APPLE-RADIUS=500;X-TITLE=36 W 40th St:geo:-73.9836149,40.7527864
END:VEVENT
END:VCALENDAR