BEGIN:VCALENDAR
VERSION:2.0
PRODID:-//PIANYC - ECPv5.12.4//NONSGML v1.0//EN
CALSCALE:GREGORIAN
METHOD:PUBLISH
X-WR-CALNAME:PIANYC
X-ORIGINAL-URL:https://www.pianyc.net
X-WR-CALDESC:Events for PIANYC
BEGIN:VTIMEZONE
TZID:America/New_York
BEGIN:DAYLIGHT
TZOFFSETFROM:-0500
TZOFFSETTO:-0400
TZNAME:EDT
DTSTART:20240310T070000
END:DAYLIGHT
BEGIN:STANDARD
TZOFFSETFROM:-0400
TZOFFSETTO:-0500
TZNAME:EST
DTSTART:20241103T060000
END:STANDARD
END:VTIMEZONE
BEGIN:VEVENT
DTSTART;TZID=America/New_York:20240717T123000
DTEND;TZID=America/New_York:20240717T140000
DTSTAMP:20260421T090222
CREATED:20240620T014016Z
LAST-MODIFIED:20240620T014016Z
UID:167675-1721219400-1721224800@www.pianyc.net
SUMMARY:Victor Lin on the Upper Terrace at Bryant Park
DESCRIPTION:Come on down and swing along with the best ragtime\, stride\, and jazz musicians in town. \nVictor Lin is an educator and performer from Seattle\, WA currently residing in New York City. A jazz pianist and violinist\, Victor has an undergraduate degree in music from the University of Washington and a masters degree in jazz studies from Rutgers University\, where he was a student of Kenny Barron. He is currently finishing his doctorate in music education at Columbia University Teachers College\, where he teaches jazz piano and jazz ensembles. \n 
URL:https://www.pianyc.net/event/victor-lin-on-the-upper-terrace-at-bryant-park-3/2024-07-17/
LOCATION:Bryant Park\, Upper Terrace\, 36 W 40th St\, New York\, NY\, 10018\, United States
CATEGORIES:Live Musical Performance
ATTACH;FMTTYPE=image/jpeg:https://www.pianyc.net/wp-content/uploads/2024/05/bryant_park_piano.jpg
GEO:40.7527864;-73.9836149
X-APPLE-STRUCTURED-LOCATION;VALUE=URI;X-ADDRESS=Bryant Park Upper Terrace 36 W 40th St New York NY 10018 United States;X-APPLE-RADIUS=500;X-TITLE=36 W 40th St:geo:-73.9836149,40.7527864
END:VEVENT
END:VCALENDAR