BEGIN:VCALENDAR
VERSION:2.0
PRODID:-//PIANYC - ECPv5.12.4//NONSGML v1.0//EN
CALSCALE:GREGORIAN
METHOD:PUBLISH
X-WR-CALNAME:PIANYC
X-ORIGINAL-URL:https://www.pianyc.net
X-WR-CALDESC:Events for PIANYC
BEGIN:VTIMEZONE
TZID:America/New_York
BEGIN:DAYLIGHT
TZOFFSETFROM:-0500
TZOFFSETTO:-0400
TZNAME:EDT
DTSTART:20240310T070000
END:DAYLIGHT
BEGIN:STANDARD
TZOFFSETFROM:-0400
TZOFFSETTO:-0500
TZNAME:EST
DTSTART:20241103T060000
END:STANDARD
END:VTIMEZONE
BEGIN:VEVENT
DTSTART;TZID=America/New_York:20241112T190000
DTEND;TZID=America/New_York:20241112T200000
DTSTAMP:20260422T044035
CREATED:20241108T011414Z
LAST-MODIFIED:20241108T011414Z
UID:173669-1731438000-1731441600@www.pianyc.net
SUMMARY:Uri Caine Jazz Piano at Klavierhaus
DESCRIPTION:“Master improviser.” —The Guardian \nJoin for an unforgettable evening of jazz piano as the acclaimed Uri Caine Trio takes the stage at Klavierhaus. With Uri Caine on piano\, accompanied by renowned bassist James Genus and drummer Ben Perowsky\, this is a performance you won’t want to miss! \nUri Caine’s music is a fusion of diverse influences\, blending his Jewish heritage\, classical and jazz training\, and fascination with electronics to create innovative and challenging compositions. Caine’s impressive career includes commissions from prestigious ensembles and orchestras\, such as the American Composers Orchestra and The Beaux Arts Trio. His recent orchestral work\, “Sunburst\,” debuted in Palermo\, Sicily\, in 2016. He’s a recipient of grants from institutions like the National Endowment for the Arts and has graced stages at renowned festivals worldwide. \nTwo Showtimes Available: Choose between the 7:00 pm or 8:30 pm show. Tickets are only $25 in advance and $30 at the door. Students with valid school IDs can purchase tickets for just $15 in cash at the door. Secure your spot today! \nCan’t attend in person? No problem! Catch the show in the comfort of your own home via HD Livestreaming: $10 (advance); $15 (day of show). \nMore from Decibel Presents: Looking for more incredible live shows? Visit Decibel Presents’ website at https://decibelpresents.com to explore their exciting lineup of upcoming events. \nCancellation Policy:\nRefunds available for cancellations; otherwise\, tickets are non-refundable. Please be punctual\, and let us know if you’ll be late. We can hold your reservation for 15 minutes past the scheduled time. Thank you for your understanding.
URL:https://www.pianyc.net/event/uri-caine-jazz-piano-at-klavierhaus/
LOCATION:Klavierhaus\, 790 11th Avenue\, New York\, NY\, 10019\, United States
CATEGORIES:Live Musical Performance
ATTACH;FMTTYPE=image/jpeg:https://img.evbuc.com/https%3A%2F%2Fcdn.evbuc.com%2Fimages%2F889887043%2F1704170045453%2F1%2Foriginal.20241101-201849?crop=focalpoint&fit=crop&w=1000&auto=format%2Ccompress&q=75&sharp=10&fp-x=0.5&fp-y=0.5&s=c23b20ab1376b4b19e8075246b925a6a
GEO:40.7686401;-73.9922313
X-APPLE-STRUCTURED-LOCATION;VALUE=URI;X-ADDRESS=Klavierhaus 790 11th Avenue New York NY 10019 United States;X-APPLE-RADIUS=500;X-TITLE=790 11th Avenue:geo:-73.9922313,40.7686401
END:VEVENT
END:VCALENDAR