BEGIN:VCALENDAR
VERSION:2.0
PRODID:-//PIANYC - ECPv5.12.4//NONSGML v1.0//EN
CALSCALE:GREGORIAN
METHOD:PUBLISH
X-WR-CALNAME:PIANYC
X-ORIGINAL-URL:https://www.pianyc.net
X-WR-CALDESC:Events for PIANYC
BEGIN:VTIMEZONE
TZID:America/New_York
BEGIN:DAYLIGHT
TZOFFSETFROM:-0500
TZOFFSETTO:-0400
TZNAME:EDT
DTSTART:20240310T070000
END:DAYLIGHT
BEGIN:STANDARD
TZOFFSETFROM:-0400
TZOFFSETTO:-0500
TZNAME:EST
DTSTART:20241103T060000
END:STANDARD
END:VTIMEZONE
BEGIN:VEVENT
DTSTART;TZID=America/New_York:20240929T193000
DTEND;TZID=America/New_York:20240929T210000
DTSTAMP:20260421T102447
CREATED:20240815T161223Z
LAST-MODIFIED:20240815T162827Z
UID:169610-1727638200-1727643600@www.pianyc.net
SUMMARY:Tuudr Piano Competition Gala at Carnegie Hall
DESCRIPTION:Performer\nArtists to be announced \n 
URL:https://www.pianyc.net/event/tuudr-piano-competition-gala-at-carnegie-hall/
LOCATION:Carnegie Hall\, 881 Seventh Avenue\, New York\, NY\, 10019\, United States
CATEGORIES:Live Musical Performance
ATTACH;FMTTYPE=image/jpeg:https://carnegiehall.imgix.net/-/media/CarnegieHall/Images/About/Rentals/Carnegie-Hall-Exterior-at-Night-Updated-21-22.jpg
GEO:40.764938;-73.979897
X-APPLE-STRUCTURED-LOCATION;VALUE=URI;X-ADDRESS=Carnegie Hall 881 Seventh Avenue New York NY 10019 United States;X-APPLE-RADIUS=500;X-TITLE=881 Seventh Avenue:geo:-73.979897,40.764938
END:VEVENT
END:VCALENDAR