BEGIN:VCALENDAR
VERSION:2.0
PRODID:-//PIANYC - ECPv5.12.4//NONSGML v1.0//EN
CALSCALE:GREGORIAN
METHOD:PUBLISH
X-WR-CALNAME:PIANYC
X-ORIGINAL-URL:https://www.pianyc.net
X-WR-CALDESC:Events for PIANYC
BEGIN:VTIMEZONE
TZID:America/New_York
BEGIN:DAYLIGHT
TZOFFSETFROM:-0500
TZOFFSETTO:-0400
TZNAME:EDT
DTSTART:20250309T070000
END:DAYLIGHT
BEGIN:STANDARD
TZOFFSETFROM:-0400
TZOFFSETTO:-0500
TZNAME:EST
DTSTART:20251102T060000
END:STANDARD
END:VTIMEZONE
BEGIN:VEVENT
DTSTART;TZID=America/New_York:20251017T193000
DTEND;TZID=America/New_York:20251017T193000
DTSTAMP:20260422T223601
CREATED:20250827T013751Z
LAST-MODIFIED:20250904T011109Z
UID:186519-1760729400-1760729400@www.pianyc.net
SUMMARY:Trio Accordé at Merkin Concert Hall at Kaufman Music Center
DESCRIPTION:MUSICIANS ON THE RISE\nNathan Amaral\, violin; Valentin Kovalev\, saxophone & Iwo Jedynecki\, accordion\nThree award-winning performers join forces for a dynamic program of music by Mozart\, Bartók\, Gershwin\, Piazzolla and more. This newly-formed trio delves into their unique instrumentation with classic works and original arrangements in this singular one-night-only performance. \nCARLOS GARDEL – Por una cabeza\nW.A. MOZART – Andante from Violin Sonata No. 18 in G Major\, K. 301\nDARIUS MILHAUD – Jeu (III) from Suite for Violin\, Clarinet and Piano\, Op. 157b\nDARIUS MILHAUD – Scaramouche “Brazileira”\nBÉLA BARTÓK – Romanian Folk Dances\, Sz. 56\nDMITRI SHOSTAKOVICH – Five Pieces for Two Violins and Piano\nPAWEŁ JANAS – Sonata “Infinity” (2015)\nGEORGE GERSHWIN – Three Preludes\nASTOR PIAZZOLLA – Oblivion\nASTOR PIAZZOLLA – Libertango\nROBERTO MOLINELLI – Four Pictures from New York\nZEQUINHA DE ABREU – Tico-Tico no Fubá
URL:https://www.pianyc.net/event/trio-accorde-at-merkin-concert-hall-at-kaufman-music-center/
LOCATION:Merkin Concert Hall at Kaufman Music Center\, 129 W 67th St\, New York\, NY\, 10036\, United States
CATEGORIES:Live Musical Performance
ATTACH;FMTTYPE=image/jpeg:https://www.kaufmanmusiccenter.org/images/uploads/events/_medium/Trio_Accord%C3%A9_-_1200x1200.jpg
GEO:40.7752368;-73.9830916
X-APPLE-STRUCTURED-LOCATION;VALUE=URI;X-ADDRESS=Merkin Concert Hall at Kaufman Music Center 129 W 67th St New York NY 10036 United States;X-APPLE-RADIUS=500;X-TITLE=129 W 67th St:geo:-73.9830916,40.7752368
END:VEVENT
END:VCALENDAR