BEGIN:VCALENDAR
VERSION:2.0
PRODID:-//PIANYC - ECPv5.12.4//NONSGML v1.0//EN
CALSCALE:GREGORIAN
METHOD:PUBLISH
X-WR-CALNAME:PIANYC
X-ORIGINAL-URL:https://www.pianyc.net
X-WR-CALDESC:Events for PIANYC
BEGIN:VTIMEZONE
TZID:America/New_York
BEGIN:DAYLIGHT
TZOFFSETFROM:-0500
TZOFFSETTO:-0400
TZNAME:EDT
DTSTART:20230312T070000
END:DAYLIGHT
BEGIN:STANDARD
TZOFFSETFROM:-0400
TZOFFSETTO:-0500
TZNAME:EST
DTSTART:20231105T060000
END:STANDARD
END:VTIMEZONE
BEGIN:VEVENT
DTSTART;TZID=America/New_York:20231011T193000
DTEND;TZID=America/New_York:20231011T210000
DTSTAMP:20260420T070200
CREATED:20230413T105629Z
LAST-MODIFIED:20230426T151221Z
UID:147984-1697052600-1697058000@www.pianyc.net
SUMMARY:Trifonov Plays Schumann\, NY Phil\, at Lincoln Center
DESCRIPTION:Artists\nMirga Gražinytė-Tyla Conductor\nDaniil Trifonov Piano \nProgram\nRaminta Šerkšnytė De profundis\nR. Schumann Piano Concerto\nSibelius Selections from \nStar pianist Daniil Trifonov performs Robert Schumann’s rousing Piano Concerto\, a Romantic masterpiece that uplifts and inspires. Lithuanian conductor Mirga Gražinytė-Tyla makes her NY Phil debut\, opening with a piece for strings by her compatriot Raminta Šerkšnytė and closing with selections from Lemminkäinen Suite\, Sibelius’s orchestral adaptation of Finnish folk tales.
URL:https://www.pianyc.net/event/trifonov-plays-schumann-ny-phil-at-lincoln-center/2023-10-11/
LOCATION:David Geffen Hall at Lincoln Center\, 132 West 65th Street\, New York\, NY\, 10023\, United States
CATEGORIES:Live Musical Performance
ATTACH;FMTTYPE=:
GEO:40.7731303;-73.9830865
X-APPLE-STRUCTURED-LOCATION;VALUE=URI;X-ADDRESS=David Geffen Hall at Lincoln Center 132 West 65th Street New York NY 10023 United States;X-APPLE-RADIUS=500;X-TITLE=132 West 65th Street:geo:-73.9830865,40.7731303
END:VEVENT
END:VCALENDAR