BEGIN:VCALENDAR
VERSION:2.0
PRODID:-//PIANYC - ECPv5.12.4//NONSGML v1.0//EN
CALSCALE:GREGORIAN
METHOD:PUBLISH
X-WR-CALNAME:PIANYC
X-ORIGINAL-URL:https://www.pianyc.net
X-WR-CALDESC:Events for PIANYC
BEGIN:VTIMEZONE
TZID:America/New_York
BEGIN:DAYLIGHT
TZOFFSETFROM:-0500
TZOFFSETTO:-0400
TZNAME:EDT
DTSTART:20240310T070000
END:DAYLIGHT
BEGIN:STANDARD
TZOFFSETFROM:-0400
TZOFFSETTO:-0500
TZNAME:EST
DTSTART:20241103T060000
END:STANDARD
END:VTIMEZONE
BEGIN:VEVENT
DTSTART;TZID=America/New_York:20241115T193000
DTEND;TZID=America/New_York:20241115T210000
DTSTAMP:20260421T083803
CREATED:20240914T192543Z
LAST-MODIFIED:20241024T160525Z
UID:171133-1731699000-1731704400@www.pianyc.net
SUMMARY:Tradition and Transformation: Mozart\, Schoenberg\, and Ge at Church of the Holy Apostles
DESCRIPTION:WESTSIDE CHAMBER PLAYERS 2024-25 SEASON\nTradition & Transformation\nThe Westside Chamber Players are thrilled to welcome Sofia Ouyang as our new Music Director for her inaugural season. Our opening concert will showcase 2024-25 Call for Scores winner Bobby Ge\, pianist Lucas Amory\, and Schoenberg’s Chamber Symphony No. 2. Admission is free\, but RSVP is required. \nProgram: \nBobby Ge Minutes Between \nMozart Piano Concerto No. 24 in C minor\, K.491 with Soloist Lucas Amory \nSchoenberg Chamber Symphony No. 2\, Op. 38 \n– \nThe Westside Chamber Players is a student-led chamber orchestra based in the New York Metropolitan area that aims to share high-level\, accessible performances aiding in the development of young\, passionate artists.
URL:https://www.pianyc.net/event/tradition-and-transformation-mozart-schoenberg-and-ge-at-church-of-the-holy-apostles/
LOCATION:Church of the Holy Apostles\, 296 9th Avenue\, New York\, NY\, 10001\, United States
CATEGORIES:Live Musical Performance
ATTACH;FMTTYPE=image/jpeg:https://img.evbuc.com/https%3A%2F%2Fcdn.evbuc.com%2Fimages%2F825294129%2F1341444939693%2F1%2Foriginal.20240812-153732?w=1000&auto=format%2Ccompress&q=75&sharp=10&rect=0%2C712%2C5964%2C2982&s=6a2d6a3ede35fdc554355d4bfb513497
GEO:40.7492285;-73.9987408
X-APPLE-STRUCTURED-LOCATION;VALUE=URI;X-ADDRESS=Church of the Holy Apostles 296 9th Avenue New York NY 10001 United States;X-APPLE-RADIUS=500;X-TITLE=296 9th Avenue:geo:-73.9987408,40.7492285
END:VEVENT
END:VCALENDAR