BEGIN:VCALENDAR
VERSION:2.0
PRODID:-//PIANYC - ECPv5.12.4//NONSGML v1.0//EN
CALSCALE:GREGORIAN
METHOD:PUBLISH
X-WR-CALNAME:PIANYC
X-ORIGINAL-URL:https://www.pianyc.net
X-WR-CALDESC:Events for PIANYC
BEGIN:VTIMEZONE
TZID:America/New_York
BEGIN:DAYLIGHT
TZOFFSETFROM:-0500
TZOFFSETTO:-0400
TZNAME:EDT
DTSTART:20250309T070000
END:DAYLIGHT
BEGIN:STANDARD
TZOFFSETFROM:-0400
TZOFFSETTO:-0500
TZNAME:EST
DTSTART:20251102T060000
END:STANDARD
END:VTIMEZONE
BEGIN:VEVENT
DTSTART;TZID=America/New_York:20250329T190000
DTEND;TZID=America/New_York:20250329T220000
DTSTAMP:20260423T074048
CREATED:20250111T163919Z
LAST-MODIFIED:20250111T164133Z
UID:176874-1743274800-1743285600@www.pianyc.net
SUMMARY:Tony DeSare: Sinatra & Beyond at Birdland (Early & Late Shows)
DESCRIPTION:Tony DeSare performs with infectious joy\, wry playfulness\, and robust musicality. Named a “Rising Star Male Vocalist” in DownBeat magazine\, DeSare has garnered critical and popular acclaim for his concert performances throughout North America and abroad. From jazz clubs to Carnegie Hall to Las Vegas headlining with Don Rickles and major symphony orchestras\, DeSare has brought his fresh take on old-school class around the globe. DeSare has four top ten Billboard jazz albums and has been featured on the CBS Early Show\, NPR\, A Prairie Home Companion\, and the Today Show. His music has been posted by social media celebrity juggernaut\, George Takei\, and DeSare has also collaborated with YouTube icons Postmodern Jukebox. \nEarly Show\nLate Show
URL:https://www.pianyc.net/event/tony-desare-sinatra-beyond-at-birdland-early-late-shows-2/
LOCATION:Birdland\, 315 West 44th Street\, New York\, NY\, 10036\, United States
ATTACH;FMTTYPE=image/jpeg:https://i.ticketweb.com/i/00/12/77/16/93_Original.jpg
GEO:40.759194;-73.9898
X-APPLE-STRUCTURED-LOCATION;VALUE=URI;X-ADDRESS=Birdland 315 West 44th Street New York NY 10036 United States;X-APPLE-RADIUS=500;X-TITLE=315 West 44th Street:geo:-73.9898,40.759194
END:VEVENT
END:VCALENDAR