BEGIN:VCALENDAR
VERSION:2.0
PRODID:-//PIANYC - ECPv5.12.4//NONSGML v1.0//EN
CALSCALE:GREGORIAN
METHOD:PUBLISH
X-WR-CALNAME:PIANYC
X-ORIGINAL-URL:https://www.pianyc.net
X-WR-CALDESC:Events for PIANYC
BEGIN:VTIMEZONE
TZID:America/New_York
BEGIN:DAYLIGHT
TZOFFSETFROM:-0500
TZOFFSETTO:-0400
TZNAME:EDT
DTSTART:20240310T070000
END:DAYLIGHT
BEGIN:STANDARD
TZOFFSETFROM:-0400
TZOFFSETTO:-0500
TZNAME:EST
DTSTART:20241103T060000
END:STANDARD
END:VTIMEZONE
BEGIN:VEVENT
DTSTART;TZID=America/New_York:20240613T123000
DTEND;TZID=America/New_York:20240613T140000
DTSTAMP:20260421T100538
CREATED:20240604T171020Z
LAST-MODIFIED:20240604T171020Z
UID:167335-1718281800-1718287200@www.pianyc.net
SUMMARY:Todd Robbins on the Upper Terrace at Bryant Park
DESCRIPTION:Come on down and swing along with the best ragtime\, stride\, and jazz musicians in town. \nTodd Robbins is a New York City-based performer who plays Ragtime and classic Tin Pan Alley – and is renowned for his work in Coney Island\, off-Broadway\, and as an author of several books. \nWhether a sideshow\, magic\, circus\, jazz\, or burlesque act\, Todd is a master of popular entertainment and can be seen on YouTube\, heard playing piano with Woody Allen’s Jazz Band (he has recorded two albums with that group)\, or watched as host on the Investigation Discovery Channel’s new series\, True Nightmares.
URL:https://www.pianyc.net/event/todd-robbins-on-the-upper-terrace-at-bryant-park/2024-06-13/
LOCATION:Bryant Park\, Upper Terrace\, 36 W 40th St\, New York\, NY\, 10018\, United States
CATEGORIES:Live Musical Performance
ATTACH;FMTTYPE=image/jpeg:https://www.pianyc.net/wp-content/uploads/2024/05/bryant_park_piano.jpg
GEO:40.7527864;-73.9836149
X-APPLE-STRUCTURED-LOCATION;VALUE=URI;X-ADDRESS=Bryant Park Upper Terrace 36 W 40th St New York NY 10018 United States;X-APPLE-RADIUS=500;X-TITLE=36 W 40th St:geo:-73.9836149,40.7527864
END:VEVENT
END:VCALENDAR