BEGIN:VCALENDAR
VERSION:2.0
PRODID:-//PIANYC - ECPv5.12.4//NONSGML v1.0//EN
CALSCALE:GREGORIAN
METHOD:PUBLISH
X-WR-CALNAME:PIANYC
X-ORIGINAL-URL:https://www.pianyc.net
X-WR-CALDESC:Events for PIANYC
BEGIN:VTIMEZONE
TZID:America/New_York
BEGIN:DAYLIGHT
TZOFFSETFROM:-0500
TZOFFSETTO:-0400
TZNAME:EDT
DTSTART:20240310T070000
END:DAYLIGHT
BEGIN:STANDARD
TZOFFSETFROM:-0400
TZOFFSETTO:-0500
TZNAME:EST
DTSTART:20241103T060000
END:STANDARD
END:VTIMEZONE
BEGIN:VEVENT
DTSTART;TZID=America/New_York:20240815T193000
DTEND;TZID=America/New_York:20240815T210000
DTSTAMP:20260421T120044
CREATED:20240805T185627Z
LAST-MODIFIED:20240805T210102Z
UID:168889-1723750200-1723755600@www.pianyc.net
SUMMARY:Wet Ink Ensemble: Mincek\, Soper at The DiMenna Center for Classical Music
DESCRIPTION:Kate Soper\nEpithets\, 2023-2024*\n* World Premiere\nCommissioned by The Earle Brown Music Foundation Charitable Trust \nAlex Mincek\nNomadic Science\, 2024*\n* World Premiere\nCommissioned by The Earle Brown Music Foundation Charitable Trust \n  \nWet Ink Ensemble\nEric Wubbels\, conductor \nErin Lesser\, flute\nMichelle Farah\, oboe\nMadison Greenstone\, clarinet\nAlex Mincek\, tenor saxophone\nAlexander Davis\, bassoon\nLaura Weiner\, horn\nAndrew Kozar\, trumpet\nWeston Olencki\, trombone\nIan Antonio\, percussion\nLevy Lorenzo\, percussion\nVicky Chow\, piano (Mincek)\nEric Wubbels\, piano (Soper)\nJacqueline Kerrod\, harp\nModney\, violin\nGabriela Diaz\, violin\nMarina Kifferstein\, violin\nYezu Woo\, violin\nCarrie Frey\, viola\nKal Sugatski\, viola\nMariel Roberts\, cello\nDara Hankins\, cello\nLizzie Burns\, bass\nSam Pluta\, electronics\nKate Soper\, voice \nConcert duration: 1 hour 10 minutes
URL:https://www.pianyc.net/event/timespans-2024-wet-ink-ensemble-mincek-soper-at-the-dimenna-center-for-classical-music/
LOCATION:DiMenna Center for Classical Music\, 450 West 37th St.\, New York\, NY\, 10018\, United States
CATEGORIES:Live Musical Performance
ATTACH;FMTTYPE=image/jpeg:https://img.evbuc.com/https%3A%2F%2Fcdn.evbuc.com%2Fimages%2F732084809%2F300050896987%2F1%2Foriginal.20240330-232151?w=1000&auto=format%2Ccompress&q=75&sharp=10&rect=0%2C0%2C2160%2C1080&s=1382cf46d6b571bddfa5e2bb8db685b8
GEO:40.7560618;-73.997348
X-APPLE-STRUCTURED-LOCATION;VALUE=URI;X-ADDRESS=DiMenna Center for Classical Music 450 West 37th St. New York NY 10018 United States;X-APPLE-RADIUS=500;X-TITLE=450 West 37th St.:geo:-73.997348,40.7560618
END:VEVENT
END:VCALENDAR