BEGIN:VCALENDAR
VERSION:2.0
PRODID:-//PIANYC - ECPv5.12.4//NONSGML v1.0//EN
CALSCALE:GREGORIAN
METHOD:PUBLISH
X-WR-CALNAME:PIANYC
X-ORIGINAL-URL:https://www.pianyc.net
X-WR-CALDESC:Events for PIANYC
BEGIN:VTIMEZONE
TZID:America/New_York
BEGIN:DAYLIGHT
TZOFFSETFROM:-0500
TZOFFSETTO:-0400
TZNAME:EDT
DTSTART:20250309T070000
END:DAYLIGHT
BEGIN:STANDARD
TZOFFSETFROM:-0400
TZOFFSETTO:-0500
TZNAME:EST
DTSTART:20251102T060000
END:STANDARD
END:VTIMEZONE
BEGIN:VEVENT
DTSTART;TZID=America/New_York:20251010T190000
DTEND;TZID=America/New_York:20251010T203000
DTSTAMP:20260423T142546
CREATED:20250919T182450Z
LAST-MODIFIED:20250927T184137Z
UID:188274-1760122800-1760128200@www.pianyc.net
SUMMARY:Thomas Nickell\, Pianist/Composer\, in Solo Recital at Tenri Cultural Institute
DESCRIPTION:The impressive American composer and pianist Thomas Nickell will return to New York City’s Tenri Cultural Institute for a solo piano recital on Friday evening\, October 10\, 2025\, 7:00 p.m. Mr. Nickell’s program will include works by Beethoven\, Kodaly\, Liszt\, and Ustvolskaya. The full program follows: \nZoltan Kodaly\, Selections from 9 Piano Pieces Op. 3 \nNo. 1\, Lento \nNo. 2\, Andante poco rubato \nFranz Liszt\, Selections from Harmonies Poetiques et Religieuses \nNo. 4\, Pensée de Morts \nNo. 9\, Andante Lagrimoso \nNo. 10\, Cantique d’Amour \nIntermission \nGalina Ustvolskaya\, Piano Sonata No. 5 \nLudwig van Beethoven\, Piano Sonata No. 21 in C Major\, Op. 53\, “Waldstein” \nI. Allegro con brio \nII. Introduzione: Adagio molto \nIII. Rondo: Allegretto moderato — Prestissimo \nReviewing Mr. Nickell’s concert last season\, Jeffrey Williams of the New York Concert Review had this to say: “Mr. Nickell has undoubted talent\, and as his talent continues to flourish… I look forward to hearing what the future holds for him.” Commenting on Mr. Nickell’s performance of Stevenson’s Scottish Triptych\, Mr. Williams said; “While Mr. Nickell has the requisite technique to deal with the difficulties that abound\, it was the slower sections\, with his sensitive and poetic playing\, that showed his artistry to its fullest extent. This work was the highlight of the evening for this listener.” \nThomas Nickell\, steeped in the classical music tradition with an ear for contemporary soundscapes\, has already garnered recognition throughout Europe and the United States for his thoughtful explorations of various musical genres. As a pianist\, Mr. Nickell has given many highly lauded public performances of important works by Bach\, Beethoven\, Berg\, Gershwin\, Khachaturian\, Liszt\, David Matthews\, Mozart\, Rachmaninoff\, as well as his own compositions. \nIn June of 2022\, Thomas Nickell launched a new series entitled “Avant Garden” with the Oistrakh Symphony of Chicago. Increasingly devoting his time to composition and collaborative efforts\, Mr. Nickell has created Leaks for Solo Percussion and Tape (2020); Horizons for 8 Double Basses and Sine Waves (2020); Tribute (after Julius Eastman) for Solo Piano (2020); Untitled for Retuned Digital Keyboard (2020); The Falling Sun for Electronic Sounds (2020); Unstuck in Time for Orchestra (2019-20); Music for Ensemble for at least 4 players (2019-20); String Quartet in No. 2\, “Heliopause\,” selected for JACK Quartet Readings at Mannes (2019); Spires of Form for Voice and Piano\, a work co-composed with American soprano Denise Young which was premiered at Weill Recital Hall at Carnegie Hall (2019); Piano Trio for Clarinet\, Viola\, and Piano (2019)\, Intercalendrical Zone for Piano (2019)\, and Prelude and Constellated Night for Piano (2019).
URL:https://www.pianyc.net/event/thomas-nickell-pianist-composer-in-solo-recital-at-tenri-cultural-institute-2/
LOCATION:Tenri Cultural Institute\, 43 West 13th Street\, New York\, NY\, 10011\, United States
CATEGORIES:Live Musical Performance
ATTACH;FMTTYPE=image/jpeg:https://cdn.evbuc.com/images/957416283/387152751647/1/original.20250210-212751
GEO:40.7364415;-73.9961258
X-APPLE-STRUCTURED-LOCATION;VALUE=URI;X-ADDRESS=Tenri Cultural Institute 43 West 13th Street New York NY 10011 United States;X-APPLE-RADIUS=500;X-TITLE=43 West 13th Street:geo:-73.9961258,40.7364415
END:VEVENT
END:VCALENDAR