BEGIN:VCALENDAR
VERSION:2.0
PRODID:-//PIANYC - ECPv5.12.4//NONSGML v1.0//EN
CALSCALE:GREGORIAN
METHOD:PUBLISH
X-WR-CALNAME:PIANYC
X-ORIGINAL-URL:https://www.pianyc.net
X-WR-CALDESC:Events for PIANYC
BEGIN:VTIMEZONE
TZID:America/New_York
BEGIN:DAYLIGHT
TZOFFSETFROM:-0500
TZOFFSETTO:-0400
TZNAME:EDT
DTSTART:20230312T070000
END:DAYLIGHT
BEGIN:STANDARD
TZOFFSETFROM:-0400
TZOFFSETTO:-0500
TZNAME:EST
DTSTART:20231105T060000
END:STANDARD
END:VTIMEZONE
BEGIN:VEVENT
DTSTART;TZID=America/New_York:20230425T193000
DTEND;TZID=America/New_York:20230425T210000
DTSTAMP:20260420T110100
CREATED:20220919T104233Z
LAST-MODIFIED:20220919T104233Z
UID:138060-1682451000-1682456400@www.pianyc.net
SUMMARY:Théotime Langlois de Swarte\, Violin; William Christie\, Harpsichord at Carnegie Hall
DESCRIPTION:Performers\nThéotime Langlois de Swarte\, Violin\nWilliam Christie\, Harpsichord \nProgram\nProgram to include works by Leclair and Senaillé
URL:https://www.pianyc.net/event/theotime-langlois-de-swarte-violin-william-christie-harpsichord-at-carnegie-hall/
LOCATION:Carnegie Hall\, 881 Seventh Avenue\, New York\, NY\, 10019\, United States
CATEGORIES:Live Musical Performance
ATTACH;FMTTYPE=image/jpeg:https://carnegiehall.imgix.net:443/-/media/CarnegieHall/Images/Events/2022-2023-CH-Presents/2023-04-25-Theotime-Langlois-de-Swarte-William-Christie.jpg
GEO:40.764938;-73.979897
X-APPLE-STRUCTURED-LOCATION;VALUE=URI;X-ADDRESS=Carnegie Hall 881 Seventh Avenue New York NY 10019 United States;X-APPLE-RADIUS=500;X-TITLE=881 Seventh Avenue:geo:-73.979897,40.764938
END:VEVENT
END:VCALENDAR