BEGIN:VCALENDAR
VERSION:2.0
PRODID:-//PIANYC - ECPv5.12.4//NONSGML v1.0//EN
CALSCALE:GREGORIAN
METHOD:PUBLISH
X-WR-CALNAME:PIANYC
X-ORIGINAL-URL:https://www.pianyc.net
X-WR-CALDESC:Events for PIANYC
BEGIN:VTIMEZONE
TZID:America/New_York
BEGIN:DAYLIGHT
TZOFFSETFROM:-0500
TZOFFSETTO:-0400
TZNAME:EDT
DTSTART:20250309T070000
END:DAYLIGHT
BEGIN:STANDARD
TZOFFSETFROM:-0400
TZOFFSETTO:-0500
TZNAME:EST
DTSTART:20251102T060000
END:STANDARD
END:VTIMEZONE
BEGIN:VEVENT
DTSTART;TZID=America/New_York:20251012T190000
DTEND;TZID=America/New_York:20251012T230000
DTSTAMP:20260423T093847
CREATED:20250824T011219Z
LAST-MODIFIED:20250824T011219Z
UID:186497-1760295600-1760310000@www.pianyc.net
SUMMARY:Thelonious Monk Birthday Celebration at Birdland (Early and Late Shows)
DESCRIPTION:Description\nBirdland’s annual all-star birthday celebration of iconic jazz pianist and composer Thelonious Monk featuring some of his best known compositions: Blue Monk\, Evidence\, Trinkle Tinkle\, Let’s Cool One\, Bolivar Blues\, Rhythm-A- Ning\, and more. \nThe Band will feature: \nGreg Osby – Alto Sax \n\nMitch Stein – Guitar \n\nJames Weidman – Piano \n\nLonnie Plaxico – Bass \nSteve Smith – Drums\n\n\n\nThis is a recurring event. All dates:\nFriday\, October 10 2025\, 07:00 PM\nFriday\, October 10 2025\, 09:30 PM\nSaturday\, October 11 2025\, 07:00 PM\nSaturday\, October 11 2025\, 09:30 PM\nSunday\, October 12 2025\, 07:00 PM\nSunday\, October 12 2025\, 09:30 PM
URL:https://www.pianyc.net/event/thelonious-monk-birthday-celebration-at-birdland/2025-10-12/
LOCATION:Birdland\, 315 West 44th Street\, New York\, NY\, 10036\, United States
CATEGORIES:Live Musical Performance
ATTACH;FMTTYPE=image/jpeg:https://i.ticketweb.com/i/00/12/67/39/54_Original.jpg
GEO:40.759194;-73.9898
X-APPLE-STRUCTURED-LOCATION;VALUE=URI;X-ADDRESS=Birdland 315 West 44th Street New York NY 10036 United States;X-APPLE-RADIUS=500;X-TITLE=315 West 44th Street:geo:-73.9898,40.759194
END:VEVENT
END:VCALENDAR