BEGIN:VCALENDAR
VERSION:2.0
PRODID:-//PIANYC - ECPv5.12.4//NONSGML v1.0//EN
CALSCALE:GREGORIAN
METHOD:PUBLISH
X-WR-CALNAME:PIANYC
X-ORIGINAL-URL:https://www.pianyc.net
X-WR-CALDESC:Events for PIANYC
BEGIN:VTIMEZONE
TZID:America/New_York
BEGIN:DAYLIGHT
TZOFFSETFROM:-0500
TZOFFSETTO:-0400
TZNAME:EDT
DTSTART:20230312T070000
END:DAYLIGHT
BEGIN:STANDARD
TZOFFSETFROM:-0400
TZOFFSETTO:-0500
TZNAME:EST
DTSTART:20231105T060000
END:STANDARD
END:VTIMEZONE
BEGIN:VEVENT
DTSTART;TZID=America/New_York:20230329T200000
DTEND;TZID=America/New_York:20230329T213000
DTSTAMP:20260420T091238
CREATED:20230130T100216Z
LAST-MODIFIED:20230130T100216Z
UID:144866-1680120000-1680125400@www.pianyc.net
SUMMARY:The Sophia Rosoff Concert Series Feat. Three Pianists\, at Carnegie Hall
DESCRIPTION:Performer\nWill Healy\, David Iskowitz\, Arnav Landge\, Dennis Malone\, Vered Reznik\, Claire Tsai\, and Leo White\, Piano \nThis concert features three pianists\, Vered Reznik\, David Iskowitz\, and Dennis Malone\, who all had long mentorships with Sophia Rosoff. They are joined by their current and past students Arnav Landge\, Claire Tsai\, Leo White\, and Will Healy. They will perform works for four hands by Fauré\, Saint-Saëns\, Schumann/Bizet and Smetana along with solo works by Mendelssohn\, Beethoven\, Chopin\, Debussy\, Ravel\, and Sato Matsui. \nProgram\nWorks by Beethoven\, Chopin\, Debussy\, Mendelssohn\, Smetana\, Sato Matsui\, and others
URL:https://www.pianyc.net/event/the-sophia-rosoff-concert-series-feat-three-pianists-at-carnegie-hall/
LOCATION:Carnegie Hall\, 881 Seventh Avenue\, New York\, NY\, 10019\, United States
CATEGORIES:Live Musical Performance
ATTACH;FMTTYPE=image/jpeg:https://carnegiehall.imgix.net:443/-/media/CarnegieHall/Images/Events/2022-2023-Rentals/whiteside-mar-29.jpg
GEO:40.764938;-73.979897
X-APPLE-STRUCTURED-LOCATION;VALUE=URI;X-ADDRESS=Carnegie Hall 881 Seventh Avenue New York NY 10019 United States;X-APPLE-RADIUS=500;X-TITLE=881 Seventh Avenue:geo:-73.979897,40.764938
END:VEVENT
END:VCALENDAR