BEGIN:VCALENDAR
VERSION:2.0
PRODID:-//PIANYC - ECPv5.12.4//NONSGML v1.0//EN
CALSCALE:GREGORIAN
METHOD:PUBLISH
X-WR-CALNAME:PIANYC
X-ORIGINAL-URL:https://www.pianyc.net
X-WR-CALDESC:Events for PIANYC
BEGIN:VTIMEZONE
TZID:America/New_York
BEGIN:DAYLIGHT
TZOFFSETFROM:-0500
TZOFFSETTO:-0400
TZNAME:EDT
DTSTART:20240310T070000
END:DAYLIGHT
BEGIN:STANDARD
TZOFFSETFROM:-0400
TZOFFSETTO:-0500
TZNAME:EST
DTSTART:20241103T060000
END:STANDARD
END:VTIMEZONE
BEGIN:VEVENT
DTSTART;TZID=America/New_York:20240421T150000
DTEND;TZID=America/New_York:20240421T163000
DTSTAMP:20260421T064519
CREATED:20231115T024714Z
LAST-MODIFIED:20231115T183534Z
UID:156755-1713711600-1713717000@www.pianyc.net
SUMMARY:The New York Philharmonic Ensembles\, at Merkin Hall
DESCRIPTION:Musicians from The New York Philharmonic\nPROKOFIEV – Quintet in G minor\, Op. 39\nBEETHOVEN – Serenade in D major for Flute\, Violin and Viola\, Op. 25\nFe. MENDELSSOHN – Octet for Strings in E-flat Major\, Op. 20 \nBuy tickets to 3+ Ensembles concerts and save $5 per concert.
URL:https://www.pianyc.net/event/the-new-york-philharmonic-ensembles-at-merkin-hall/
LOCATION:Merkin Concert Hall at Kaufman Music Center\, 129 W 67th St\, New York\, NY\, 10036\, United States
CATEGORIES:Live Musical Performance
ATTACH;FMTTYPE=image/jpeg:https://www.kaufmanmusiccenter.org/images/uploads/events/_medium/Mar_15_-_1200x1200_2.jpg
GEO:40.7752368;-73.9830916
X-APPLE-STRUCTURED-LOCATION;VALUE=URI;X-ADDRESS=Merkin Concert Hall at Kaufman Music Center 129 W 67th St New York NY 10036 United States;X-APPLE-RADIUS=500;X-TITLE=129 W 67th St:geo:-73.9830916,40.7752368
END:VEVENT
END:VCALENDAR