BEGIN:VCALENDAR
VERSION:2.0
PRODID:-//PIANYC - ECPv5.12.4//NONSGML v1.0//EN
CALSCALE:GREGORIAN
METHOD:PUBLISH
X-WR-CALNAME:PIANYC
X-ORIGINAL-URL:https://www.pianyc.net
X-WR-CALDESC:Events for PIANYC
BEGIN:VTIMEZONE
TZID:America/New_York
BEGIN:DAYLIGHT
TZOFFSETFROM:-0500
TZOFFSETTO:-0400
TZNAME:EDT
DTSTART:20240310T070000
END:DAYLIGHT
BEGIN:STANDARD
TZOFFSETFROM:-0400
TZOFFSETTO:-0500
TZNAME:EST
DTSTART:20241103T060000
END:STANDARD
END:VTIMEZONE
BEGIN:VEVENT
DTSTART;TZID=America/New_York:20241124T173000
DTEND;TZID=America/New_York:20241124T200000
DTSTAMP:20260420T115052
CREATED:20241117T183554Z
LAST-MODIFIED:20241117T185057Z
UID:174741-1732469400-1732478400@www.pianyc.net
SUMMARY:The Music and Math Piano Symposium at Faust Harrison Pianos
DESCRIPTION:Music and Math Piano Symposium\nCome join for a magical evening filled with beautiful melodies and talented pianists at our Music and Math Piano Symposium! Witness amazing performances by musicians of all ages as they showcase their skills on the piano. Whether you’re a music enthusiast or just looking for a relaxing night out\, this event is perfect for everyone. This event is not only about music and piano – it has a unique twist\, exploring the fascinating connections between music and math! Don’t miss this opportunity to immerse yourself in the enchanting world of music and math!
URL:https://www.pianyc.net/event/the-music-and-math-piano-symposium-at-207-w-58th-st/
LOCATION:Faust Harrison Pianos\, 207 West 58th St\, New York\, NY\, 10019\, United States
CATEGORIES:Live Musical Performance
ATTACH;FMTTYPE=image/jpeg:https://img.evbuc.com/https%3A%2F%2Fcdn.evbuc.com%2Fimages%2F899587493%2F941590303923%2F1%2Foriginal.20241115-045556?crop=focalpoint&fit=crop&w=1000&auto=format%2Ccompress&q=75&sharp=10&fp-x=5e-09&fp-y=5e-09&s=7c306c12a6e1ed7a3eab10e7fd4def50
GEO:40.766607;-73.9801175
X-APPLE-STRUCTURED-LOCATION;VALUE=URI;X-ADDRESS=Faust Harrison Pianos 207 West 58th St New York NY 10019 United States;X-APPLE-RADIUS=500;X-TITLE=207 West 58th St:geo:-73.9801175,40.766607
END:VEVENT
END:VCALENDAR