BEGIN:VCALENDAR
VERSION:2.0
PRODID:-//PIANYC - ECPv5.12.4//NONSGML v1.0//EN
CALSCALE:GREGORIAN
METHOD:PUBLISH
X-WR-CALNAME:PIANYC
X-ORIGINAL-URL:https://www.pianyc.net
X-WR-CALDESC:Events for PIANYC
BEGIN:VTIMEZONE
TZID:America/New_York
BEGIN:DAYLIGHT
TZOFFSETFROM:-0500
TZOFFSETTO:-0400
TZNAME:EDT
DTSTART:20230312T070000
END:DAYLIGHT
BEGIN:STANDARD
TZOFFSETFROM:-0400
TZOFFSETTO:-0500
TZNAME:EST
DTSTART:20231105T060000
END:STANDARD
END:VTIMEZONE
BEGIN:VEVENT
DTSTART;TZID=America/New_York:20231209T190000
DTEND;TZID=America/New_York:20231209T220000
DTSTAMP:20260421T050029
CREATED:20231115T024828Z
LAST-MODIFIED:20231115T214230Z
UID:157619-1702148400-1702159200@www.pianyc.net
SUMMARY:The Lilacs Recital Series: Anthony Ratinov at 1200 Broadway
DESCRIPTION:The minimum donation to attend the recital (with all proceeds going to the pianist) is $50. To meet the pianist\, please come to the optional post-recital drinks and dessert reception starting at 9pm. To attend the post-recital reception\, make sure to select the appropriate option. \nTo help us manage attendees\, one donation “ticket” per person please (as opposed to a single donation for multiple people in a group). \n 
URL:https://www.pianyc.net/event/the-lilacs-recital-series-anthony-ratinov-saturday-december-9-2023-at-1200-broadway/
LOCATION:1200 Broadway\, 1200 Broadway\, New York\, NY\, NY 10001\, United States
CATEGORIES:Live Musical Performance
ATTACH;FMTTYPE=image/jpeg:https://img.evbuc.com/https%3A%2F%2Fcdn.evbuc.com%2Fimages%2F638237839%2F219729687904%2F1%2Foriginal.20231109-012441?w=1000&auto=format%2Ccompress&q=75&sharp=10&rect=0%2C140%2C2116%2C1058&s=41edc50a052254beff0784b178f5d9d8
GEO:40.7460559;-73.9880992
X-APPLE-STRUCTURED-LOCATION;VALUE=URI;X-ADDRESS=1200 Broadway 1200 Broadway New York NY NY 10001 United States;X-APPLE-RADIUS=500;X-TITLE=1200 Broadway:geo:-73.9880992,40.7460559
END:VEVENT
END:VCALENDAR