BEGIN:VCALENDAR
VERSION:2.0
PRODID:-//PIANYC - ECPv5.12.4//NONSGML v1.0//EN
CALSCALE:GREGORIAN
METHOD:PUBLISH
X-WR-CALNAME:PIANYC
X-ORIGINAL-URL:https://www.pianyc.net
X-WR-CALDESC:Events for PIANYC
BEGIN:VTIMEZONE
TZID:America/New_York
BEGIN:DAYLIGHT
TZOFFSETFROM:-0500
TZOFFSETTO:-0400
TZNAME:EDT
DTSTART:20240310T070000
END:DAYLIGHT
BEGIN:STANDARD
TZOFFSETFROM:-0400
TZOFFSETTO:-0500
TZNAME:EST
DTSTART:20241103T060000
END:STANDARD
END:VTIMEZONE
BEGIN:VEVENT
DTSTART;TZID=America/New_York:20241001T200000
DTEND;TZID=America/New_York:20241001T213000
DTSTAMP:20260421T081148
CREATED:20240930T151552Z
LAST-MODIFIED:20240930T151552Z
UID:171856-1727812800-1727818200@www.pianyc.net
SUMMARY:The Crown Mountain Trio at Carnegie Hall
DESCRIPTION:Performers\nThe Crown Mountain Trio\n– Mengyao Sun\, Piano\n– Yeasol Kang\, Violin\n– Philip Snyder\, Cello \nThe Crown Mountain Trio formed in December 2023. The trio consists of pianist Mengyao Sun\, violinist Yeasol Kang\, and cellist Philip Snyder\, all faculty members at the University of North Georgia. Since performing in Weill Recital Hall in March of 2024\, the ensemble has played across the Southeast. The Crown Mountain Trio was named after the landscape of the North Georgia mountains\, and Crown Mountain itself overlooks UNG’s Dahlonega campus. \nProgram\nARENSKY Piano Trio in D Minor\, Op. 32\nXING YU Die Kunst des Teufels (World Premiere)\nKAPUSTIN Trio for Flute\, Cello\, and Piano\, Op. 86
URL:https://www.pianyc.net/event/the-crown-mountain-trio-at-carnegie-hall/
LOCATION:Carnegie Hall\, 881 Seventh Avenue\, New York\, NY\, 10019\, United States
CATEGORIES:Live Musical Performance
ATTACH;FMTTYPE=image/jpeg:https://carnegiehall.imgix.net:443/-/media/CarnegieHall/Images/Events/2024-2025-Rentals/crown-mountain-trio.jpg
GEO:40.764938;-73.979897
X-APPLE-STRUCTURED-LOCATION;VALUE=URI;X-ADDRESS=Carnegie Hall 881 Seventh Avenue New York NY 10019 United States;X-APPLE-RADIUS=500;X-TITLE=881 Seventh Avenue:geo:-73.979897,40.764938
END:VEVENT
END:VCALENDAR