BEGIN:VCALENDAR
VERSION:2.0
PRODID:-//PIANYC - ECPv5.12.4//NONSGML v1.0//EN
CALSCALE:GREGORIAN
METHOD:PUBLISH
X-WR-CALNAME:PIANYC
X-ORIGINAL-URL:https://www.pianyc.net
X-WR-CALDESC:Events for PIANYC
BEGIN:VTIMEZONE
TZID:America/New_York
BEGIN:DAYLIGHT
TZOFFSETFROM:-0500
TZOFFSETTO:-0400
TZNAME:EDT
DTSTART:20220313T070000
END:DAYLIGHT
BEGIN:STANDARD
TZOFFSETFROM:-0400
TZOFFSETTO:-0500
TZNAME:EST
DTSTART:20221106T060000
END:STANDARD
END:VTIMEZONE
BEGIN:VEVENT
DTSTART;TZID=America/New_York:20221118T200000
DTEND;TZID=America/New_York:20221118T213000
DTSTAMP:20260421T063529
CREATED:20220906T181150Z
LAST-MODIFIED:20220906T181150Z
UID:137059-1668801600-1668807000@www.pianyc.net
SUMMARY:The Art of Raga Jazz at Carnegie Hall
DESCRIPTION:2020 Global Music Award winner\, pianist\, and composer Charu Suri presents an evening devoted to her work with Indian ragas through the lens of Jazz. Preservation Hall drummer Joe Lastie\, Sufi singer Falsa\, veena player Radhika Baskar\, guitarist Noshir Mody\, and Israeli pianist Kobi Arad join her onstage. In July 2021\, Suri was recognized by the International Singer-Songwriters Association as one of their Top 5 Jazz Artists of the Month. \n 
URL:https://www.pianyc.net/event/the-art-of-raga-jazz-at-carnegie-hall/
LOCATION:Carnegie Hall\, 881 Seventh Avenue\, New York\, NY\, 10019\, United States
CATEGORIES:Live Musical Performance
ATTACH;FMTTYPE=image/jpeg:https://www.pianyc.net/wp-content/uploads/2022/09/art-jazz.jpeg
GEO:40.764938;-73.979897
X-APPLE-STRUCTURED-LOCATION;VALUE=URI;X-ADDRESS=Carnegie Hall 881 Seventh Avenue New York NY 10019 United States;X-APPLE-RADIUS=500;X-TITLE=881 Seventh Avenue:geo:-73.979897,40.764938
END:VEVENT
END:VCALENDAR