BEGIN:VCALENDAR
VERSION:2.0
PRODID:-//PIANYC - ECPv5.12.4//NONSGML v1.0//EN
CALSCALE:GREGORIAN
METHOD:PUBLISH
X-WR-CALNAME:PIANYC
X-ORIGINAL-URL:https://www.pianyc.net
X-WR-CALDESC:Events for PIANYC
BEGIN:VTIMEZONE
TZID:America/New_York
BEGIN:DAYLIGHT
TZOFFSETFROM:-0500
TZOFFSETTO:-0400
TZNAME:EDT
DTSTART:20220313T070000
END:DAYLIGHT
BEGIN:STANDARD
TZOFFSETFROM:-0400
TZOFFSETTO:-0500
TZNAME:EST
DTSTART:20221106T060000
END:STANDARD
END:VTIMEZONE
BEGIN:VEVENT
DTSTART;TZID=America/New_York:20220727T200000
DTEND;TZID=America/New_York:20220727T213000
DTSTAMP:20260420T091128
CREATED:20220709T134638Z
LAST-MODIFIED:20220709T134638Z
UID:132278-1658952000-1658957400@www.pianyc.net
SUMMARY:Terry Waldo’s Gotham City Ragtime Band\, at Zinc Bar
DESCRIPTION:Every Wednesday night Showtime 8pm to 11pm Reservations not necessary \n“Terry Waldo\, ragtime pianist nonpareil and eminent scholar of the form\, is musical director and arranger\, at the piano. He acts too. Mr. Waldo is worth the price of a ticket.” \n— THE NEW YORK TIMES
URL:https://www.pianyc.net/event/terry-waldos-gotham-city-ragtime-band-at-zinc-bar-3/
LOCATION:Zinc Bar\, 82 West 3rd Street\, New York\, NY\, 10012\, United States
CATEGORIES:Live Musical Performance
ATTACH;FMTTYPE=image/jpeg:https://www.zincjazz.com/wp-content/uploads/2022/04/Terry-Waldo-2.jpeg
GEO:40.7296714;-73.9989913
X-APPLE-STRUCTURED-LOCATION;VALUE=URI;X-ADDRESS=Zinc Bar 82 West 3rd Street New York NY 10012 United States;X-APPLE-RADIUS=500;X-TITLE=82 West 3rd Street:geo:-73.9989913,40.7296714
END:VEVENT
END:VCALENDAR