BEGIN:VCALENDAR
VERSION:2.0
PRODID:-//PIANYC - ECPv5.12.4//NONSGML v1.0//EN
CALSCALE:GREGORIAN
METHOD:PUBLISH
X-WR-CALNAME:PIANYC
X-ORIGINAL-URL:https://www.pianyc.net
X-WR-CALDESC:Events for PIANYC
BEGIN:VTIMEZONE
TZID:America/New_York
BEGIN:DAYLIGHT
TZOFFSETFROM:-0500
TZOFFSETTO:-0400
TZNAME:EDT
DTSTART:20250309T070000
END:DAYLIGHT
BEGIN:STANDARD
TZOFFSETFROM:-0400
TZOFFSETTO:-0500
TZNAME:EST
DTSTART:20251102T060000
END:STANDARD
END:VTIMEZONE
BEGIN:VEVENT
DTSTART;TZID=America/New_York:20251005T143000
DTEND;TZID=America/New_York:20251005T173000
DTSTAMP:20260422T063742
CREATED:20250917T160906Z
LAST-MODIFIED:20250928T152802Z
UID:188122-1759674600-1759685400@www.pianyc.net
SUMMARY:Sunday Matinee with the Loston Harris Trio at The Django (Early and Late Shows)
DESCRIPTION:Lineup: Loston Harris – Piano & Vocals Mark Whitfield – Guitar Paul Gill – Acoustic Bass Acclaimed singer and pianist Loston Harris has left his indelible touch at venues such as the Bellagio Hotel\, Las Vegas and the World Residences Ship at Sea. Most recently he has completed a 22-year residency at The Carlyle in New York City in the legendary Bemelmans Bar. Harris continues to bring his lively approach to the Great American Songbook across the globe in world class settings that share his passion for timeless music. \nThis event is recurring on the following dates:\nSun\, Oct 05 at 02:30 PM\nSun\, Oct 05 at 04:00 PM
URL:https://www.pianyc.net/event/sunday-matinee-with-the-loston-harris-trio-at-the-django-early-and-late-shows/
LOCATION:The Django\, The Roxy Hotel\, Cellar Level\, 2 6th Ave\, New York\, NY\, 10013\, United States
CATEGORIES:Live Musical Performance
ATTACH;FMTTYPE=image/png:https://www.pianyc.net/wp-content/uploads/2025/09/django_image.png
GEO:40.719404;-74.004902
X-APPLE-STRUCTURED-LOCATION;VALUE=URI;X-ADDRESS=The Django The Roxy Hotel Cellar Level 2 6th Ave New York NY 10013 United States;X-APPLE-RADIUS=500;X-TITLE=The Roxy Hotel\, Cellar Level\, 2 6th Ave:geo:-74.004902,40.719404
END:VEVENT
END:VCALENDAR