BEGIN:VCALENDAR
VERSION:2.0
PRODID:-//PIANYC - ECPv5.12.4//NONSGML v1.0//EN
CALSCALE:GREGORIAN
METHOD:PUBLISH
X-WR-CALNAME:PIANYC
X-ORIGINAL-URL:https://www.pianyc.net
X-WR-CALDESC:Events for PIANYC
BEGIN:VTIMEZONE
TZID:America/New_York
BEGIN:DAYLIGHT
TZOFFSETFROM:-0500
TZOFFSETTO:-0400
TZNAME:EDT
DTSTART:20240310T070000
END:DAYLIGHT
BEGIN:STANDARD
TZOFFSETFROM:-0400
TZOFFSETTO:-0500
TZNAME:EST
DTSTART:20241103T060000
END:STANDARD
END:VTIMEZONE
BEGIN:VEVENT
DTSTART;TZID=America/New_York:20241215T180000
DTEND;TZID=America/New_York:20241215T213000
DTSTAMP:20260419T084400
CREATED:20241117T183600Z
LAST-MODIFIED:20241213T020232Z
UID:174759-1734285600-1734298200@www.pianyc.net
SUMMARY:William Hill III at Minton's Playhouse
DESCRIPTION:Join on Sun December 15th for an incredible live music experience featuring William Hill III at the legendary Minton’s Playhouse in Harlem\, NYC. \nAbout the artist: \nWilliam Hill III is a pianist\, arranger\, composer\, and bandleader from Detroit\, Michigan. Hill is a graduate of the Detroit School of Arts\, and is currently studying at the prestigious Manhattan School of Music undergoing his baccalaureate education. In Hill’s pre-college years\, he has been a member of the Detroit Symphony’s Civic Youth Jazz program performing in the Creative Jazz Ensembe and the Civic Jazz Orchestra and the Michigian State Univeristy Spartan Youth Jazz Program. \nHill has had the opportunity to participate in many summer extensive jazz camps such as Jazz House Kids\, Jr. Jazz Academy at Lincoln Center\, Berklee Summer Programs\, Interlochen Center for the Arts\, Motown Lyric Project\, Keeping an Eye Summer Jazz Workshop located at the Conservatorium van Amsterdam\, and many others. \nHill is honored to receive awards from programs such as the National YoungArts Foundation\, a multi-year winner in the instrumental contemporary category for the NAACP ACT-SO National Competition\, and the West Virginia Univeristy International Jazz Piano Competition. Musicians that Hill has worked alongside and have been mentored by include Marc Cary\, Aaron Parks\, Buster Williams\, Christian McBride\, Curtis Lundy\, Jaleel Shaw\, Jazzmeia Horn\, Joe Farnsworth\, Ari Hoenig\, Rodney Whitaker\, Wynton Marsalis\, and many more. \nHill has had the opportunity to perform at the Detroit International Jazz Festival\, Dizzy’s Club Coca-Cola\, Smalls Jazz Club\, Minton’s Playhouse\, The Django\, Esplanade-Theaters on the Bay (Singapore)\, Blue Note Tokyo\, and many others. Hill’s passion in life as a musician is to spread joy to everyone around the world with the music that he produces. \nDon’t miss this opportunity to witness the magic of live music in person. Mark your calendars and get ready for a night of unforgettable melodies!
URL:https://www.pianyc.net/event/sun-12-15-the-william-hill-iii-trio-mintons-playhouse-in-harlem-at-mintons-playhouse/
LOCATION:The Chapel at the Interchurch Center\, 61 Claremont Ave\, New York\, NY\, 10115\, United States
CATEGORIES:Live Musical Performance
ATTACH;FMTTYPE=image/jpeg:https://img.evbuc.com/https%3A%2F%2Fcdn.evbuc.com%2Fimages%2F883816423%2F1948385248513%2F1%2Foriginal.20241026-020420?crop=focalpoint&fit=crop&w=1000&auto=format%2Ccompress&q=75&sharp=10&fp-x=0.510416666667&fp-y=0.047619047619&s=fac3a7fe0776e091121df429929f39b1
GEO:40.7127753;-74.0059728
X-APPLE-STRUCTURED-LOCATION;VALUE=URI;X-ADDRESS=The Chapel at the Interchurch Center 61 Claremont Ave New York NY 10115 United States;X-APPLE-RADIUS=500;X-TITLE=61 Claremont Ave:geo:-74.0059728,40.7127753
END:VEVENT
END:VCALENDAR