BEGIN:VCALENDAR
VERSION:2.0
PRODID:-//PIANYC - ECPv5.12.4//NONSGML v1.0//EN
CALSCALE:GREGORIAN
METHOD:PUBLISH
X-WR-CALNAME:PIANYC
X-ORIGINAL-URL:https://www.pianyc.net
X-WR-CALDESC:Events for PIANYC
BEGIN:VTIMEZONE
TZID:America/New_York
BEGIN:DAYLIGHT
TZOFFSETFROM:-0500
TZOFFSETTO:-0400
TZNAME:EDT
DTSTART:20240310T070000
END:DAYLIGHT
BEGIN:STANDARD
TZOFFSETFROM:-0400
TZOFFSETTO:-0500
TZNAME:EST
DTSTART:20241103T060000
END:STANDARD
END:VTIMEZONE
BEGIN:VEVENT
DTSTART;TZID=America/New_York:20240806T200000
DTEND;TZID=America/New_York:20240806T200000
DTSTAMP:20260422T045239
CREATED:20240804T173829Z
LAST-MODIFIED:20240804T173829Z
UID:168817-1722974400-1722974400@www.pianyc.net
SUMMARY:Summit Music Festival: Faculty Concert at EF Academy
DESCRIPTION:Faculty concert \nYulia Lipmanovich\, piano\nLiszt: Sonata in B minor \nChin Kim\, violin\nBach: Sonata in A minor for solo violin BWV 1003 \nAaron Minsky\, cello\nA. Minsky Truckin’ through the South Broadway\nThe New Yorker\nCell-tic Jig\nThe Hawk Ascending\nVariation # 5 Bach Gigue in C
URL:https://www.pianyc.net/event/summit-music-festival-faculty-concert-at-ef-academy/
LOCATION:EF Academy\, 582 Columbus Avenue\, New York\, NY\, NY 10594\, United States
CATEGORIES:Live Musical Performance
ATTACH;FMTTYPE=image/jpeg:https://www.interharmonymusicschool.com/professors/music-teachers/Yulia_Lipmanovich_piano.jpg
GEO:40.7880291;-73.971307
X-APPLE-STRUCTURED-LOCATION;VALUE=URI;X-ADDRESS=EF Academy 582 Columbus Avenue New York NY NY 10594 United States;X-APPLE-RADIUS=500;X-TITLE=582 Columbus Avenue:geo:-73.971307,40.7880291
END:VEVENT
END:VCALENDAR