BEGIN:VCALENDAR
VERSION:2.0
PRODID:-//PIANYC - ECPv5.12.4//NONSGML v1.0//EN
CALSCALE:GREGORIAN
METHOD:PUBLISH
X-WR-CALNAME:PIANYC
X-ORIGINAL-URL:https://www.pianyc.net
X-WR-CALDESC:Events for PIANYC
BEGIN:VTIMEZONE
TZID:America/New_York
BEGIN:DAYLIGHT
TZOFFSETFROM:-0500
TZOFFSETTO:-0400
TZNAME:EDT
DTSTART:20240310T070000
END:DAYLIGHT
BEGIN:STANDARD
TZOFFSETFROM:-0400
TZOFFSETTO:-0500
TZNAME:EST
DTSTART:20241103T060000
END:STANDARD
END:VTIMEZONE
BEGIN:VEVENT
DTSTART;TZID=America/New_York:20240809T180000
DTEND;TZID=America/New_York:20240809T180000
DTSTAMP:20260423T104306
CREATED:20240804T174423Z
LAST-MODIFIED:20240804T174423Z
UID:168826-1723226400-1723226400@www.pianyc.net
SUMMARY:Summit Music Festival: Dan Monastyrski\, piano at EF Academy
DESCRIPTION:Dan Monastyrski\, piano
URL:https://www.pianyc.net/event/summit-music-festival-dan-monastyrski-piano-at-ef-academy/
LOCATION:EF Academy\, 582 Columbus Avenue\, New York\, NY\, NY 10594\, United States
CATEGORIES:Live Musical Performance
ATTACH;FMTTYPE=image/jpeg:https://i.ytimg.com/vi/Uyym4eaKW6Y/sddefault.jpg
GEO:40.7880291;-73.971307
X-APPLE-STRUCTURED-LOCATION;VALUE=URI;X-ADDRESS=EF Academy 582 Columbus Avenue New York NY NY 10594 United States;X-APPLE-RADIUS=500;X-TITLE=582 Columbus Avenue:geo:-73.971307,40.7880291
END:VEVENT
END:VCALENDAR