BEGIN:VCALENDAR
VERSION:2.0
PRODID:-//PIANYC - ECPv5.12.4//NONSGML v1.0//EN
CALSCALE:GREGORIAN
METHOD:PUBLISH
X-WR-CALNAME:PIANYC
X-ORIGINAL-URL:https://www.pianyc.net
X-WR-CALDESC:Events for PIANYC
BEGIN:VTIMEZONE
TZID:America/New_York
BEGIN:DAYLIGHT
TZOFFSETFROM:-0500
TZOFFSETTO:-0400
TZNAME:EDT
DTSTART:20240310T070000
END:DAYLIGHT
BEGIN:STANDARD
TZOFFSETFROM:-0400
TZOFFSETTO:-0500
TZNAME:EST
DTSTART:20241103T060000
END:STANDARD
END:VTIMEZONE
BEGIN:VEVENT
DTSTART;TZID=America/New_York:20241124T183000
DTEND;TZID=America/New_York:20241124T200000
DTSTAMP:20260420T115011
CREATED:20241123T023119Z
LAST-MODIFIED:20241123T023432Z
UID:174920-1732473000-1732478400@www.pianyc.net
SUMMARY:Stephen Hough Solo Recital at Lincoln Center
DESCRIPTION:One of the most celebrated musicians of our time\, Sir Stephen Hough makes his CMS debut as pianist and composer. In a unique program combining Liszt’s fearsomely virtuosic sonata with works by Chopin and the prolific Cécile Chaminade\, Sir Stephen is joined by the enthralling Viano Quartet for the world premiere of his Piano Quintet. \nProgram \nFrédéric Chopin (1810–1849)\nNocturne in E-flat major for Piano\, Op. 9\, No. 2 (1830–32)\nNocturne in F-sharp major for Piano\, Op. 15\, No.2\nScherzo No. 2 in B-flat minor for Piano\, Op. 31 \nSir Stephen Hough (b. 1961) World Premiere\, CMS Commission\nPiano Quintet (Les Noces Rouges) (2024) \nCécile Chaminade (1857–1944)\n“Automne” from Six Études de concert for Piano\, Op. 35\, No. 2 (c. 1886)\n“Autrefois” from Six Pièces humoristiques for Piano\, Op. 87\, No. 4 (c. 1897)\nLes Sylvains for Piano\, Op. 60 (c. 1892) \nFranz Liszt (1811–1886)\nSonata in B minor for Piano\, S. 178 (1852–53)
URL:https://www.pianyc.net/event/stephen-hough-solo-recital-at-lincoln-center/
LOCATION:David Geffen Hall at Lincoln Center\, 132 West 65th Street\, New York\, NY\, 10023\, United States
CATEGORIES:Live Musical Performance
ATTACH;FMTTYPE=image/jpeg:https://www.pianyc.net/wp-content/uploads/2024/11/Stephen-Hough-Piano.jpg
GEO:40.7731303;-73.9830865
X-APPLE-STRUCTURED-LOCATION;VALUE=URI;X-ADDRESS=David Geffen Hall at Lincoln Center 132 West 65th Street New York NY 10023 United States;X-APPLE-RADIUS=500;X-TITLE=132 West 65th Street:geo:-73.9830865,40.7731303
END:VEVENT
END:VCALENDAR