BEGIN:VCALENDAR
VERSION:2.0
PRODID:-//PIANYC - ECPv5.12.4//NONSGML v1.0//EN
CALSCALE:GREGORIAN
METHOD:PUBLISH
X-WR-CALNAME:PIANYC
X-ORIGINAL-URL:https://www.pianyc.net
X-WR-CALDESC:Events for PIANYC
BEGIN:VTIMEZONE
TZID:America/New_York
BEGIN:DAYLIGHT
TZOFFSETFROM:-0500
TZOFFSETTO:-0400
TZNAME:EDT
DTSTART:20240310T070000
END:DAYLIGHT
BEGIN:STANDARD
TZOFFSETFROM:-0400
TZOFFSETTO:-0500
TZNAME:EST
DTSTART:20241103T060000
END:STANDARD
END:VTIMEZONE
BEGIN:VEVENT
DTSTART;TZID=America/New_York:20241122T193000
DTEND;TZID=America/New_York:20241122T210000
DTSTAMP:20260420T084137
CREATED:20241021T004937Z
LAST-MODIFIED:20241028T004546Z
UID:172738-1732303800-1732309200@www.pianyc.net
SUMMARY:Stargazing\, A Ballet by Miro Magloire with Music for Violin and Piano\, at Mark Morris Dance Group
DESCRIPTION:New Chamber Ballet presents the world premiere of Stargazing\, an hour-long ballet choreographed by Miro Magloire to music by Christian-Frédéric Bloquert. \nIn celebration of the company’s 20th Anniversary Season\, Stargazing is a rhapsodic phantasy that revolves around the interweaving of music and dance. \nThe choreography is performed in New Chamber Ballet’s signature\, in-the-round setup\, with the audience seated up-close and able to see the dancing from various angles. \nBloquert’s score\, Memory\, Forgot for violin and piano\, subtly evokes and pays tribute to two iconic ballets: Tchaikovsky’s Serenade and Stravinsky’s Agon. \nPerformers include the dancers Anabel Alpert\, Megan Foley\, Nicole McGinnis\, Amber Neff\, Rachele Perla; as well as Madeline Hocking (violin) and Sophiko Simsive (piano). \nThe performance will be 60 minutes\, and there will be no intermission.
URL:https://www.pianyc.net/event/stargazing-a-ballet-by-miro-magloire-at-mark-morris-dance-group/
LOCATION:Mark Morris Dance Group\, 3 Lafayette Ave\,\, Brooklyn\, NY\, 11217\, United States
CATEGORIES:Dance,Live Musical Performance
ATTACH;FMTTYPE=image/jpeg:https://img.evbuc.com/https%3A%2F%2Fcdn.evbuc.com%2Fimages%2F877582249%2F21467751654%2F1%2Foriginal.20241017-231558?crop=focalpoint&fit=crop&w=1000&auto=format%2Ccompress&q=75&sharp=10&fp-x=0.5&fp-y=0.5&s=a0241aba43c0a0c0cd6baf37b6154f54
GEO:40.6869833;-73.9789168
X-APPLE-STRUCTURED-LOCATION;VALUE=URI;X-ADDRESS=Mark Morris Dance Group 3 Lafayette Ave Brooklyn NY 11217 United States;X-APPLE-RADIUS=500;X-TITLE=3 Lafayette Ave\,:geo:-73.9789168,40.6869833
END:VEVENT
END:VCALENDAR