BEGIN:VCALENDAR
VERSION:2.0
PRODID:-//PIANYC - ECPv5.12.4//NONSGML v1.0//EN
CALSCALE:GREGORIAN
METHOD:PUBLISH
X-WR-CALNAME:PIANYC
X-ORIGINAL-URL:https://www.pianyc.net
X-WR-CALDESC:Events for PIANYC
BEGIN:VTIMEZONE
TZID:America/New_York
BEGIN:DAYLIGHT
TZOFFSETFROM:-0500
TZOFFSETTO:-0400
TZNAME:EDT
DTSTART:20240310T070000
END:DAYLIGHT
BEGIN:STANDARD
TZOFFSETFROM:-0400
TZOFFSETTO:-0500
TZNAME:EST
DTSTART:20241103T060000
END:STANDARD
END:VTIMEZONE
BEGIN:VEVENT
DTSTART;TZID=America/New_York:20241109T200000
DTEND;TZID=America/New_York:20241109T213000
DTSTAMP:20260421T103007
CREATED:20241108T011008Z
LAST-MODIFIED:20241108T011008Z
UID:173666-1731182400-1731187800@www.pianyc.net
SUMMARY:Sounds From the Gallery: Sean Spada & the Doppelgangers at Culture Lab LIC
DESCRIPTION:Sounds From the Gallery is a free concert series hosted by Culture Lab LIC inside its front art gallery. This unique event combines live music performances with the vibrant atmosphere of the gallery’s art exhibitions\, creating an intimate and immersive cultural experience. Audiences can enjoy diverse musical genres while surrounded by contemporary artwork\, making it a perfect fusion of art and sound. \nWho are Sean Spada & the Doppelgangers? \n”world’s first psychedelic piano lounge yacht-rock-run-aground rock operetta” – @thedelimag \nIG: @seanspada
URL:https://www.pianyc.net/event/sounds-from-the-gallery-sean-spada-the-doppelgangers-at-culture-lab-lic/
LOCATION:Culture Lab LIC\, 5-25 46th Ave\, Long Island City\, NY\, 11101\, United States
CATEGORIES:Live Musical Performance
ATTACH;FMTTYPE=image/jpeg:https://img.evbuc.com/https%3A%2F%2Fcdn.evbuc.com%2Fimages%2F881819433%2F437892789936%2F1%2Foriginal.20241023-182843?crop=focalpoint&fit=crop&w=1000&auto=format%2Ccompress&q=75&sharp=10&fp-x=0.00525568181818&fp-y=0.00492537313433&s=2d9acf6a5a21df59ce5e137a6842c1a7
GEO:40.7474559;-73.9541724
X-APPLE-STRUCTURED-LOCATION;VALUE=URI;X-ADDRESS=Culture Lab LIC 5-25 46th Ave Long Island City NY 11101 United States;X-APPLE-RADIUS=500;X-TITLE=5-25 46th Ave:geo:-73.9541724,40.7474559
END:VEVENT
END:VCALENDAR