BEGIN:VCALENDAR
VERSION:2.0
PRODID:-//PIANYC - ECPv5.12.4//NONSGML v1.0//EN
CALSCALE:GREGORIAN
METHOD:PUBLISH
X-WR-CALNAME:PIANYC
X-ORIGINAL-URL:https://www.pianyc.net
X-WR-CALDESC:Events for PIANYC
BEGIN:VTIMEZONE
TZID:America/New_York
BEGIN:DAYLIGHT
TZOFFSETFROM:-0500
TZOFFSETTO:-0400
TZNAME:EDT
DTSTART:20250309T070000
END:DAYLIGHT
BEGIN:STANDARD
TZOFFSETFROM:-0400
TZOFFSETTO:-0500
TZNAME:EST
DTSTART:20251102T060000
END:STANDARD
END:VTIMEZONE
BEGIN:VEVENT
DTSTART;TZID=America/New_York:20250630T190000
DTEND;TZID=America/New_York:20250630T203000
DTSTAMP:20260422T114700
CREATED:20250516T143855Z
LAST-MODIFIED:20250517T132033Z
UID:180956-1751310000-1751315400@www.pianyc.net
SUMMARY:Blend of Classical and Contemporary Works for Ensembles and Soloists at Carnegie Hall
DESCRIPTION:Performers\nChristine Harnisch\, Piano\nMomoro Ono\, Piano\nMatthew Wang\, Piano\nEthan Zhao\, Piano\nLisa Leak\, Soprano\nDominika Zamara\, Soprano\nThe Lehner String Quartet\n– Vladimir Dyo\, Violin\n– Yevgeniy Dyo\, Violin\n– Joseph Kauffman\, Viola\n– Igor Zubkovsky\, Cello\nFrane Rusinovic\, Piano\nThe Chicago Kwonsa Choir\nJinUk Lee\, Conductor\nThe Castanets of Madrid\nTeresa Laiz\, Conductor\nThe New Jersey Guitar Orchestra\nJayson Martinez\, Conductor \nSound Espressivo and Price Attractions present a program featuring a blend of classical and contemporary works for ensembles and soloists. The evening includes performances by The Chicago Kwonsa Choir\, conducted by JinUk Lee; The Castanets of Madrid\, conducted by Teresa Laiz; The New Jersey Guitar Ensemble\, conducted by Jayson Martinez; The Lehner String Quartet; along with a distinguished group of Sound Espressivo Laureates and a featured solo performance by pianist Ethan Zhao\, winner of The Hubert Competition. \nProgram\nWorks by James Adler\, Vinayak Vikram\, Stella ter Hart\, Katharine Nohl\, and more
URL:https://www.pianyc.net/event/sound-espressivo-and-price-attractions-at-carnegie-hall/
LOCATION:Carnegie Hall\, 881 Seventh Avenue\, New York\, NY\, 10019\, United States
CATEGORIES:Live Musical Performance
ATTACH;FMTTYPE=image/jpeg:https://carnegiehall.imgix.net:443/-/media/CarnegieHall/Images/Events/2024-2025-Rentals/sound-espressivo-jun-30.jpg
GEO:40.764938;-73.979897
X-APPLE-STRUCTURED-LOCATION;VALUE=URI;X-ADDRESS=Carnegie Hall 881 Seventh Avenue New York NY 10019 United States;X-APPLE-RADIUS=500;X-TITLE=881 Seventh Avenue:geo:-73.979897,40.764938
END:VEVENT
END:VCALENDAR