BEGIN:VCALENDAR
VERSION:2.0
PRODID:-//PIANYC - ECPv5.12.4//NONSGML v1.0//EN
CALSCALE:GREGORIAN
METHOD:PUBLISH
X-WR-CALNAME:PIANYC
X-ORIGINAL-URL:https://www.pianyc.net
X-WR-CALDESC:Events for PIANYC
BEGIN:VTIMEZONE
TZID:America/New_York
BEGIN:DAYLIGHT
TZOFFSETFROM:-0500
TZOFFSETTO:-0400
TZNAME:EDT
DTSTART:20230312T070000
END:DAYLIGHT
BEGIN:STANDARD
TZOFFSETFROM:-0400
TZOFFSETTO:-0500
TZNAME:EST
DTSTART:20231105T060000
END:STANDARD
END:VTIMEZONE
BEGIN:VEVENT
DTSTART;TZID=America/New_York:20230615T200000
DTEND;TZID=America/New_York:20230615T200000
DTSTAMP:20260420T082952
CREATED:20230109T212204Z
LAST-MODIFIED:20230109T212204Z
UID:144510-1686859200-1686859200@www.pianyc.net
SUMMARY:Soulive at Blue Note
DESCRIPTION:Performers\nEric Krasno\,\nAlan Evans\,\nNeil Evans \nSoulive has never made any bones about what they do best; it’s right there in their name. Since forming in 1999\, the trio of guitarist Eric Krasno\, drummer Alan Evans and keyboardist Neal Evans has carried the torch for the soul-jazz organ trio — that venerable\, funky institution pioneered by the likes of Jimmy Smith\, Brother Jack McDuff and Groove Holmes in the late ’60s. Rest assured\, when the Evans brothers first brought Kraz by their Woodstock studio\, there was plenty of old vinyl spread out on the floor. \nIn their 20 years together\, Soulive has followed the muse in the direction of hip-hop\, R&B\, blues and rock\, collaborating with the likes of Chaka Khan\, Dave Matthews\, Talib Kweli\, John Scofield\, Derek Trucks\, Maceo Parker\, Susan Tedeschi\, Robert Randolph\, Joshua Redman\, Kenny Garrett\, Fred Wesley\, The Roots\, Ivan Neville and so many others\, even going so far as to record a full album of covers by The Beatles (Rubber Soulive). But\, no matter how they push the limits of the organ trio\, they always come back to their bread and butter: blistering solos and grooves that don’t quit.
URL:https://www.pianyc.net/event/soulive-at-blue-note/2023-06-15/
LOCATION:Blue Note\, 131 W 3rd St\, New York\, NY\, 10012\, United States
CATEGORIES:Live Musical Performance
ATTACH;FMTTYPE=image/png:https://www.pianyc.net/wp-content/uploads/2023/01/soulive.png
GEO:40.7309369;-74.0006335
X-APPLE-STRUCTURED-LOCATION;VALUE=URI;X-ADDRESS=Blue Note 131 W 3rd St New York NY 10012 United States;X-APPLE-RADIUS=500;X-TITLE=131 W 3rd St:geo:-74.0006335,40.7309369
END:VEVENT
END:VCALENDAR