BEGIN:VCALENDAR
VERSION:2.0
PRODID:-//PIANYC - ECPv5.12.4//NONSGML v1.0//EN
CALSCALE:GREGORIAN
METHOD:PUBLISH
X-WR-CALNAME:PIANYC
X-ORIGINAL-URL:https://www.pianyc.net
X-WR-CALDESC:Events for PIANYC
BEGIN:VTIMEZONE
TZID:America/New_York
BEGIN:DAYLIGHT
TZOFFSETFROM:-0500
TZOFFSETTO:-0400
TZNAME:EDT
DTSTART:20240310T070000
END:DAYLIGHT
BEGIN:STANDARD
TZOFFSETFROM:-0400
TZOFFSETTO:-0500
TZNAME:EST
DTSTART:20241103T060000
END:STANDARD
END:VTIMEZONE
BEGIN:VEVENT
DTSTART;TZID=America/New_York:20240603T190000
DTEND;TZID=America/New_York:20240603T200000
DTSTAMP:20260422T064658
CREATED:20240526T122739Z
LAST-MODIFIED:20240526T122739Z
UID:166464-1717441200-1717444800@www.pianyc.net
SUMMARY:Sonic Poetry: Elegance\, Virtuosity\, and Romance with Wynona Wang\, Piano at The National Arts Club
DESCRIPTION:Chinese pianist Wynona Wang launched her career after winning the First Prize at the 2018 Concert Artists Guild International Competition. Her recent North American performances include appearances with the Orchestra NOW\, the Roswell Symphony Orchestra\, the DuPage Symphony Orchestra\, the Northwest Florida Symphony Orchestra\, the California North State Symphony Orchestra\, and the Meadows Symphony Orchestra in Dallas. She has performed in such major venues as the Sydney Opera House\, Lincoln Center’s David Geffen Hall\, Carnegie Hall’s Weill Hall\, the Metropolitan Museum’s Grace Rainey Rogers Auditorium\, the Merkin Concert Hall in New York City\, the Krannert Center for the Performing Arts\, Purdue Convocations\, the Kravis Center\, the California Performing Arts Center\, the Whitney Center\, the Conrad in La Jolla\, and the Dallas Winspear Opera House.
URL:https://www.pianyc.net/event/sonic-poetry-elegance-virtuosity-and-romance-with-wynona-wang-piano-at-the-national-arts-club/
LOCATION:The National Arts Club\, 15 Gramercy Pk S.\, New York\, NY\, 10003\, United States
CATEGORIES:Live Musical Performance
ATTACH;FMTTYPE=image/jpeg:https://img.evbuc.com/https%3A%2F%2Fcdn.evbuc.com%2Fimages%2F757944319%2F89753492095%2F1%2Foriginal.20240502-143844?w=1000&auto=format%2Ccompress&q=75&sharp=10&rect=0%2C317%2C3000%2C1500&s=f266fe2cf6b7317fd30fc9ddf6568f9e
GEO:40.737694;-73.986703
X-APPLE-STRUCTURED-LOCATION;VALUE=URI;X-ADDRESS=The National Arts Club 15 Gramercy Pk S. New York NY 10003 United States;X-APPLE-RADIUS=500;X-TITLE=15 Gramercy Pk S.:geo:-73.986703,40.737694
END:VEVENT
END:VCALENDAR