BEGIN:VCALENDAR
VERSION:2.0
PRODID:-//PIANYC - ECPv5.12.4//NONSGML v1.0//EN
CALSCALE:GREGORIAN
METHOD:PUBLISH
X-WR-CALNAME:PIANYC
X-ORIGINAL-URL:https://www.pianyc.net
X-WR-CALDESC:Events for PIANYC
BEGIN:VTIMEZONE
TZID:America/New_York
BEGIN:DAYLIGHT
TZOFFSETFROM:-0500
TZOFFSETTO:-0400
TZNAME:EDT
DTSTART:20240310T070000
END:DAYLIGHT
BEGIN:STANDARD
TZOFFSETFROM:-0400
TZOFFSETTO:-0500
TZNAME:EST
DTSTART:20241103T060000
END:STANDARD
END:VTIMEZONE
BEGIN:VEVENT
DTSTART;TZID=America/New_York:20241120T180000
DTEND;TZID=America/New_York:20241120T193000
DTSTAMP:20260421T064149
CREATED:20240815T170915Z
LAST-MODIFIED:20241120T192507Z
UID:169823-1732125600-1732131000@www.pianyc.net
SUMMARY:Sonatenabend at Juilliard School
DESCRIPTION:Sonatenabend\, “Evening of Sonatas” \nProgram \nSCHUBERT Sonata for Violin and Piano in A Major\, D. 574\nGabrielle Després\, Violin\nInkyo Hong\, Piano \nDEBUSSY Sonata for Violin and Piano\nAnthony Chan\, Violin\nGiancarlo Llerena\, Piano \nPOULENC Sonata for Violin and Piano\nGabrielle Després\, Violin\nDain Yoon\, Piano \nBOUTRY Interférences I for Bassoon and Piano\nChristopher Chung\, Bassoon\nLohan Park\, Piano \nWatch the performance on the event page at the scheduled date and time. This performance won’t be available to stream afterward on demand. \nLead Digital Sponsor: Bloomberg Philanthropies \nJuilliard LIVE was launched in 2021 under the leadership of President Damian Woetzel\, dramatically expanding access for audiences around the world to Juilliard performances through livestreams and on-demand video. Juilliard LIVE streams nearly 700 performances each year\, with new on-demand programs regularly added to the accessible library of content. \nJuilliard’s livestream technology is made possible in part by a gift in honor of President Emeritus Joseph W. Polisi\, building on his legacy of broadening Juilliard’s global reach. \nVenue\nPaul Hall
URL:https://www.pianyc.net/event/sonatenabend-at-juilliard-school-4/
LOCATION:Juilliard School\, 155 W 65th St\, Street Level\, New York\, NY\, 10023\, United States
CATEGORIES:Live Musical Performance
ATTACH;FMTTYPE=image/jpeg:https://www.pianyc.net/wp-content/uploads/2023/09/Juilliard_Sonatenabend_2400x1350_piXeiD10.jpg
GEO:40.7769059;-73.9800645
X-APPLE-STRUCTURED-LOCATION;VALUE=URI;X-ADDRESS=Juilliard School 155 W 65th St Street Level New York NY 10023 United States;X-APPLE-RADIUS=500;X-TITLE=155 W 65th St\, Street Level:geo:-73.9800645,40.7769059
END:VEVENT
END:VCALENDAR