BEGIN:VCALENDAR
VERSION:2.0
PRODID:-//PIANYC - ECPv5.12.4//NONSGML v1.0//EN
CALSCALE:GREGORIAN
METHOD:PUBLISH
X-WR-CALNAME:PIANYC
X-ORIGINAL-URL:https://www.pianyc.net
X-WR-CALDESC:Events for PIANYC
BEGIN:VTIMEZONE
TZID:America/New_York
BEGIN:DAYLIGHT
TZOFFSETFROM:-0500
TZOFFSETTO:-0400
TZNAME:EDT
DTSTART:20220313T070000
END:DAYLIGHT
BEGIN:STANDARD
TZOFFSETFROM:-0400
TZOFFSETTO:-0500
TZNAME:EST
DTSTART:20221106T060000
END:STANDARD
END:VTIMEZONE
BEGIN:VEVENT
DTSTART;TZID=America/New_York:20221205T193000
DTEND;TZID=America/New_York:20221205T203000
DTSTAMP:20260422T062402
CREATED:20220804T193519Z
LAST-MODIFIED:20220804T193519Z
UID:133627-1670268600-1670272200@www.pianyc.net
SUMMARY:Sofiane Pamart\, at National Sawdust
DESCRIPTION:French pianist Sofiane Pamart\, a.k.a. ‘Piano King\,’ has made a name for himself by bridging the traditionalist western classical world and the always-innovating realm of hip-hop. Pamart’s collaborations with rappers like Koba LaD\, Vald\, Joey Starr\, and more have helped piano music shed its staid facade and become more accessible to new listeners.
URL:https://www.pianyc.net/event/sofiane-pamart-at-national-sawdust/
LOCATION:National Sawdust\, 80 N 6TH St \, Brooklyn\, NY\, 11249\, United States
CATEGORIES:Live Musical Performance
ATTACH;FMTTYPE=image/png:https://www.pianyc.net/wp-content/uploads/2022/08/sofiane.png
GEO:40.7189084;-73.9613374
X-APPLE-STRUCTURED-LOCATION;VALUE=URI;X-ADDRESS=National Sawdust 80 N 6TH St  Brooklyn NY 11249 United States;X-APPLE-RADIUS=500;X-TITLE=80 N 6TH St:geo:-73.9613374,40.7189084
END:VEVENT
END:VCALENDAR