BEGIN:VCALENDAR
VERSION:2.0
PRODID:-//PIANYC - ECPv5.12.4//NONSGML v1.0//EN
CALSCALE:GREGORIAN
METHOD:PUBLISH
X-WR-CALNAME:PIANYC
X-ORIGINAL-URL:https://www.pianyc.net
X-WR-CALDESC:Events for PIANYC
BEGIN:VTIMEZONE
TZID:America/New_York
BEGIN:DAYLIGHT
TZOFFSETFROM:-0500
TZOFFSETTO:-0400
TZNAME:EDT
DTSTART:20230312T070000
END:DAYLIGHT
BEGIN:STANDARD
TZOFFSETFROM:-0400
TZOFFSETTO:-0500
TZNAME:EST
DTSTART:20231105T060000
END:STANDARD
END:VTIMEZONE
BEGIN:VEVENT
DTSTART;TZID=America/New_York:20231202T210000
DTEND;TZID=America/New_York:20231202T223000
DTSTAMP:20260420T085443
CREATED:20230522T182227Z
LAST-MODIFIED:20231106T004309Z
UID:149518-1701550800-1701556200@www.pianyc.net
SUMMARY:Sō Percussion at Carnegie Hall
DESCRIPTION:Performers\nSō Percussion\nwith Special Guest\nOlivier Tarpaga\, Percussion\nAdditional artists to be announced \nA group of today’s most rhythmically dazzling composers show that anything is possible in the hands of Sō Percussion—an ensemble that has “set the New York standard for percussion innovation” (The New Yorker). Hear New York premieres by MacArthur Genius and renowned jazz pianist Vijay Iyer; award-winning choreographer and percussionist Olivier Tarpaga\, who will perform alongside the group; and the boldly imaginative multi-instrumentalist Angélica Negrón. The program also includes an original and evolving work by founding member Jason Treuting. \nProgram\nANGÉLICA NEGRÓN Inward Pieces (NY Premiere)\nVIJAY IYER New Work for Percussion Quartet\, Piano\, and Trumpet (World Premiere\, co-commissioned by Carnegie Hall)\nOLIVIER TARPAGA Fé Fé (World Premiere\, co-commissioned by Carnegie Hall)\nJASON TREUTING Go Placidly with Haste
URL:https://www.pianyc.net/event/so-percussion-at-carnegie-hall/
LOCATION:Carnegie Hall\, 881 Seventh Avenue\, New York\, NY\, 10019\, United States
CATEGORIES:Live Musical Performance
ATTACH;FMTTYPE=image/jpeg:https://carnegiehall.imgix.net/-/media/CarnegieHall/Images/Events/2023-2024-CH-Presents/2023-12-02-So-Percussion.png?w=690&h=690&fit=crop&crop=faces
GEO:40.764938;-73.979897
X-APPLE-STRUCTURED-LOCATION;VALUE=URI;X-ADDRESS=Carnegie Hall 881 Seventh Avenue New York NY 10019 United States;X-APPLE-RADIUS=500;X-TITLE=881 Seventh Avenue:geo:-73.979897,40.764938
END:VEVENT
END:VCALENDAR