BEGIN:VCALENDAR
VERSION:2.0
PRODID:-//PIANYC - ECPv5.12.4//NONSGML v1.0//EN
CALSCALE:GREGORIAN
METHOD:PUBLISH
X-WR-CALNAME:PIANYC
X-ORIGINAL-URL:https://www.pianyc.net
X-WR-CALDESC:Events for PIANYC
BEGIN:VTIMEZONE
TZID:America/New_York
BEGIN:DAYLIGHT
TZOFFSETFROM:-0500
TZOFFSETTO:-0400
TZNAME:EDT
DTSTART:20240310T070000
END:DAYLIGHT
BEGIN:STANDARD
TZOFFSETFROM:-0400
TZOFFSETTO:-0500
TZNAME:EST
DTSTART:20241103T060000
END:STANDARD
END:VTIMEZONE
BEGIN:VEVENT
DTSTART;TZID=America/New_York:20241126T190000
DTEND;TZID=America/New_York:20241126T210000
DTSTAMP:20260421T045630
CREATED:20241108T013308Z
LAST-MODIFIED:20241108T013308Z
UID:173690-1732647600-1732654800@www.pianyc.net
SUMMARY:Sláva Vorlová: 130th Anniversary Concert at Bohemian National Hall
DESCRIPTION:A concert featuring soprano Tamara Morozová\, contralto Monika Jägerová\, and pianist Vojtěch Červenka\, celebrating one of the most original Czech composers of the 20th century: Sláva Vorlová. The Lieder Society is thus reintroducing Vorlová’s work into the cultural landscape with a concert marking the 130th anniversary of her birth. Join in celebrating the Year of Czech Music with a resounding shout: Sláva! \nSláva Vorlová is one of the most original—and often overlooked—Czech composers of the 20th century. Her life and work reflect the historical currents of her time and her status as a prominent female composer in Czechoslovakia. Rooted in late Romanticism and influenced by jazz and numerology\, her music resonates with warmth\, intimacy\, and sharp wit. \nAfter studying in Prague and Vienna\, Vorlová (1894–1973) spent 15 years in her husband’s hat factory. Following World War II\, she returned to composition and gained recognition both at home and abroad. The tragic execution of her husband by the Nazis on May 8\, 1945\, inspired her song cycle Stesk I Nostalgia\, Op. 13 (1946)\, dedicated to journalist Karel Čapek. \nHer subsequent cycle\, O lásce / On Love\, Op. 17 (1947)\, features her own texts and marks a new chapter in her life. In Stručné úvahy / Brief Reflections\, Op. 89 (1971)\, she humorously sets Miroslav Holub’s poems to music during a time when they were banned in Czechoslovakia. Tragically\, Vorlová did not live to see its premiere. These duets explore themes of boundaries\, the flood of words\, and the laughter that helps us cope with scrutiny.
URL:https://www.pianyc.net/event/slava-vorlova-130th-anniversary-concert-at-bohemian-national-hall/
LOCATION:Bohemian National Hall\, 321 East 73rd Street (between 1st and 2nd Avenues)\, New York\, NY\, 10021\, United States
CATEGORIES:Live Musical Performance
ATTACH;FMTTYPE=image/jpeg:https://img.evbuc.com/https%3A%2F%2Fcdn.evbuc.com%2Fimages%2F888639823%2F169569148912%2F1%2Foriginal.20241031-034315?crop=focalpoint&fit=crop&w=1000&auto=format%2Ccompress&q=75&sharp=10&fp-x=0.495265151515&fp-y=0.0884520884521&s=fadd5cdd6f42a3232f242ece9c5833c9
GEO:40.7691142;-73.9565393
X-APPLE-STRUCTURED-LOCATION;VALUE=URI;X-ADDRESS=Bohemian National Hall 321 East 73rd Street (between 1st and 2nd Avenues) New York NY 10021 United States;X-APPLE-RADIUS=500;X-TITLE=321 East 73rd Street (between 1st and 2nd Avenues):geo:-73.9565393,40.7691142
END:VEVENT
END:VCALENDAR