BEGIN:VCALENDAR
VERSION:2.0
PRODID:-//PIANYC - ECPv5.12.4//NONSGML v1.0//EN
CALSCALE:GREGORIAN
METHOD:PUBLISH
X-WR-CALNAME:PIANYC
X-ORIGINAL-URL:https://www.pianyc.net
X-WR-CALDESC:Events for PIANYC
BEGIN:VTIMEZONE
TZID:America/New_York
BEGIN:DAYLIGHT
TZOFFSETFROM:-0500
TZOFFSETTO:-0400
TZNAME:EDT
DTSTART:20220313T070000
END:DAYLIGHT
BEGIN:STANDARD
TZOFFSETFROM:-0400
TZOFFSETTO:-0500
TZNAME:EST
DTSTART:20221106T060000
END:STANDARD
END:VTIMEZONE
BEGIN:VEVENT
DTSTART;TZID=America/New_York:20220804T140000
DTEND;TZID=America/New_York:20220804T150000
DTSTAMP:20260421T045613
CREATED:20220804T115107Z
LAST-MODIFIED:20220804T115107Z
UID:133377-1659621600-1659625200@www.pianyc.net
SUMMARY:Sing-A-Long with Russ Kassoff on the Upper Terrace at Bryant Park
DESCRIPTION:New York City’s finest pianists perform most summer weekdays in Bryant Park\, free to the public! Join on the park’s Upper Terrace for a different musician weekly. \n \nRuss Kassoff has always enjoyed his stints at Piano in Bryant Park each year since 2011! Now that live music is slowly returning to normal\, Russ has resumed playing trio and solo jazz concerts\, clubs\, festivals\, master classes\, private parties\, and even concerts as conductor/pianist to the legendary Rita Moreno with her heartfelt and sumptuous autobiographical shows. In 2020 Russ performed 100 consecutive days of solo mini-concerts on Facebook for his loyal and discerning fans! Online concerts are planned moving forward! The virtual world has created opportunities for musicians to perform for selective audiences and Russ has appeared on Zoom\, Music On The Inside\, featured in the Virtual SUCP Potsdam – Crane school of music reunion\, and soloed as part of the Great American Songbook Series created by Michael Feinstein.
URL:https://www.pianyc.net/event/sing-a-long-with-russ-kassoff-on-the-upper-terrace-at-bryant-park/
LOCATION:Bryant Park\, Upper Terrace\, 36 W 40th St\, New York\, NY\, 10018\, United States
CATEGORIES:Live Musical Performance
ATTACH;FMTTYPE=image/jpeg:https://www.pianyc.net/wp-content/uploads/2022/08/bryant-park.jpeg
GEO:40.7527864;-73.9836149
X-APPLE-STRUCTURED-LOCATION;VALUE=URI;X-ADDRESS=Bryant Park Upper Terrace 36 W 40th St New York NY 10018 United States;X-APPLE-RADIUS=500;X-TITLE=36 W 40th St:geo:-73.9836149,40.7527864
END:VEVENT
END:VCALENDAR