BEGIN:VCALENDAR
VERSION:2.0
PRODID:-//PIANYC - ECPv5.12.4//NONSGML v1.0//EN
CALSCALE:GREGORIAN
METHOD:PUBLISH
X-WR-CALNAME:PIANYC
X-ORIGINAL-URL:https://www.pianyc.net
X-WR-CALDESC:Events for PIANYC
BEGIN:VTIMEZONE
TZID:America/New_York
BEGIN:DAYLIGHT
TZOFFSETFROM:-0500
TZOFFSETTO:-0400
TZNAME:EDT
DTSTART:20250309T070000
END:DAYLIGHT
BEGIN:STANDARD
TZOFFSETFROM:-0400
TZOFFSETTO:-0500
TZNAME:EST
DTSTART:20251102T060000
END:STANDARD
END:VTIMEZONE
BEGIN:VEVENT
DTSTART;TZID=America/New_York:20250111T143000
DTEND;TZID=America/New_York:20250111T163000
DTSTAMP:20260422T011800
CREATED:20241230T041811Z
LAST-MODIFIED:20241230T041811Z
UID:176602-1736605800-1736613000@www.pianyc.net
SUMMARY:Silent Clowns Film Series: Taxi! Taxi! (1927) at the Bruno Walter Auditorium
DESCRIPTION:The Silent Clowns Film Series is New York’s longest-running regularly scheduled silent film showcase. Our programming reaches the serious film buff by including rarely-screened titles and rare prints\, yet it also introduces kids and new audiences to the classics of the silent screen. Screenings feature live piano accompaniment by MoMA’s Ben Model\, with an introduction and Q&A by film historians Model and Steve Massa. \nRemembered today for his fussy persona in sound films\, Edward Everett Horton had a substantial career in silent comedy and starred in numerous features and shorts. We are proud to present the re-premiere of a Horton feature that was lost and recently rediscovered. Taxi! Taxi! (1927) was produced by Universal\, and is perfectly tailored to Eddie’s well-known screen character. Opening the bill is the also re-discov-ered cartoon The Battle (1922) with Koko the Clown. \nRegister
URL:https://www.pianyc.net/event/silent-clowns-film-series-taxi-taxi-1927-at-the-bruno-walter-auditorium/
LOCATION:Bruno Walter Auditorium\, 40 Lincoln Center Plaza\, New York\, NY\, 10023\, United States
CATEGORIES:Film,Live Musical Performance
ATTACH;FMTTYPE=image/jpeg:https://www.pianyc.net/wp-content/uploads/2024/12/taxi_taxi_film.jpg
GEO:40.7727831;-73.984202
X-APPLE-STRUCTURED-LOCATION;VALUE=URI;X-ADDRESS=Bruno Walter Auditorium 40 Lincoln Center Plaza New York NY 10023 United States;X-APPLE-RADIUS=500;X-TITLE=40 Lincoln Center Plaza:geo:-73.984202,40.7727831
END:VEVENT
END:VCALENDAR